{"text_format":"1","workbook":"xlsx","n_sheets":7,"sheets":["TITLE","TUBING PORT","TUBING PORT - CV CHART","FULL PORT","FULL PORT - CV CHART","Cv Charts","DATA"],"not_rendered":{"charts":4,"images":1,"macros":1,"external_links":0,"defined_names":7,"comments":0,"pivot_tables":0},"unopened":[{"sheet":"TUBING PORT - CV CHART","index":2,"reason":"not_a_worksheet"},{"sheet":"FULL PORT - CV CHART","index":4,"reason":"not_a_worksheet"}],"bounds":{"document_bytes":16777216,"sheet_cells":100000,"rows_first":2000,"rows_last":500,"rows_between":2000,"halvings":0,"cell_chars":16384,"cell_head_chars":4096},"cells_cut":0,"cells_raw":0,"read":"whole","date_system":"1900"}

{"sheet":"TITLE","index":0,"n_rows":20,"n_cols":1,"rows_kept":20,"cut":false,"hidden":false,"merged":[[0,0,0,1]]}
["PBM 2-WAY VALVE FLOW CALCULATOR"]
[]
["VERSION 2.06"]
["DATE: MARCH 22, 2016"]
[]
["PLEASE SELECT THE TYPE OF VALVE YOU NEED:  "]
[]
[]
[]
[]
[]
[]
["REVISION NOTES:"]
["2.03 - ADDED DATA FOR LP GAS (PROPANE)"]
["2.04 - ADDED SPECIFIC GRAVITY INFO TO MEDIA"]
["NAMES, ADDED DATA FOR DOZENS OF FLUIDS."]
["2.05 - ADDED LIQUIFIED NATURAL GAS AND LIQUID"]
["          NITROGEN"]
["2.06 - CORRECTED FOR LIQUID PRESSURE INPUTS TO"]
["          BE IN PSIG AND RELABELED ACCORDINGLY."]

{"sheet":"TUBING PORT","index":1,"n_rows":91,"n_cols":27,"rows_kept":91,"cut":false,"hidden":false,"merged":[[29,1,30,1],[29,2,30,2],[29,4,30,4],[29,7,30,7],[29,5,30,5],[29,6,30,6],[29,3,30,3],[24,6,24,9],[8,3,8,4],[6,6,6,9],[1,8,1,9],[11,11,11,13],[12,11,12,13],[21,3,21,4],[14,11,14,13],[17,11,17,13],[25,11,25,13],[24,11,24,13],[18,12,18,13],[21,11,21,13],[22,12,22,13],[0,25,0,26],[0,0,0,3],[16,6,16,9],[5,12,5,13],[13,11,13,13],[7,11,7,13],[10,11,10,13]]}
["TO DETERMINE THE REQUIRED CV:",null,null,null,null,null,null,null,null,null,null,null,null,"Kc =",0.24,null,null,null,null,"Size","ID","wall\nthickness","Outlet\nDiameter","Slot Width",null,"Saturated\nSteam"]
[null,null,null,null,null,null,null,"Select the desired valve size from the following drop-down list:  ","1-1/2\" Tubing Port (1.37)",null,null,null,null,"Cf =",0.6,null,{"$f":"DATA!A89","v":"WATER [S.G. 1.000]"},{"$f":"DATA!F3","v":"AIR [S.G. 1.0000]"},null,"1/2\" Tubing Port (0.37)",0.37,6.5000000000000002E-2,0.37,"1/16\" Slot Upstream",null,"PSI","°F"]
[null,null,null,null,null,null,null,null,null,null,null,null,null,"T (°C) =",{"$f":"5/9*(E10-32)","v":-17.777777777777779},null,{"$f":"DATA!A2","v":"ACETIC ACID [S.G. 1.052]"},{"$f":"DATA!F2","v":"ACETYLENE [S.G. 0.903]"},null,"3/4\" Tubing Port (0.62)",0.62,6.5000000000000002E-2,0.62,"1/8\" Slot Upstream",null,0.11599999999999999,38.840000000000003]
[null,null,null,null,null,null,null,null,null,null,null,null,null,"T (°K) =",{"$f":"273+O3","v":255.22222222222223},null,{"$f":"DATA!A3","v":"ACETONE [S.G. 0.787]"},{"$f":"DATA!F4","v":"AMMONIA [S.G. 0.589]"},null,"1\" Tubing Port (0.87)",0.87,6.5000000000000002E-2,0.87,"3/16\" Slot Upstream",null,0.28999999999999998,63.5]
[null,"ENTER VALUES (LIQUID)",null,null,null,null,"DO NOT ENTER DATA HERE",null,null,null,null,null,null,"e =",2.7182818284590402,null,{"$f":"DATA!A4","v":"ACETYLENE, LIQUID [S.G. 0.900]"},{"$f":"DATA!F5","v":"ARGON [S.G. 1.374]"},null,"1-1/2\" Tubing Port (1.37)",1.37,6.5000000000000002E-2,1.37,"3/8\" Slot Upstream",null,0.72499999999999998,91.22]
[null,"UPSTREAM PRESSURE (PSIG)",null,null,null,null,"PRESSURE DROP (PSI)",null,null,{"$f":"E6-E7","v":0},null,null,"Critical Pressure (Pc)",null,{"$f":"LOOKUP(D9,DATA!A2:A91,DATA!B2:B91)","v":{"$error":"#N/A"}},null,{"$f":"DATA!A5","v":"ALCOHOL [S.G. 0.802]"},{"$f":"DATA!F6","v":"CARBON DIOXIDE [S.G. 1.531]"},null,"2\" Tubing Port (1.87)",1.87,6.5000000000000002E-2,1.87,"3/8\" Slot Upstream",null,1.45,114.44]
[null,"DOWNSTREAM PRESSURE (PSIG)",null,null,null,null,{"$f":"IF(J6=0,\"\",(IF(AND(J6<J10,J6>J9),\"Incipient cavitation is expected\",IF(J6>J10,\"Cavitation will occur\",\"\"))))","v":""},null,null,null,null,null,null,"Coeff. of Incipient Cavitation (Kc - psia)",{"$f":"O1","v":0.24},null,{"$f":"DATA!A6","v":"ALCOHOL, ETHYL (ETHANOL) [S.G. 0.787]"},{"$f":"DATA!F7","v":"CARBON MONOXIDE [S.G. 0.969]"},null,"2-1/2\" Tubing Port (2.37)",2.37,6.5000000000000002E-2,2.37,"3/8\" Slot Upstream",null,2.9,140.18]
[null,"FLOW RATE (GPM)",null,null,null,null,"REQUIRED CV",null,null,{"$f":"E8*(SQRT(IF((LOOKUP(D9,DATA!A2:A91,DATA!C2:C91))=0,1,(LOOKUP(D9,DATA!A2:A91,DATA!C2:C91)))/J6))","v":{"$error":"#N/A"}},null,"Critical Flow Factor (Cf)",null,null,{"$f":"O2","v":0.6},null,{"$f":"DATA!A7","v":"ALCOHOL, METHYL (METHANOL) [S.G. 0.791]"},{"$f":"DATA!F8","v":"ETHANE [S.G. 2.487]"},null,"3\" Tubing Port (2.87)",2.87,6.5000000000000002E-2,2.87,"5/8\" Slot Upstream",null,4.0599999999999996,153.5]
[null,"FLUID",null,null,null,null,"∆P incipient cavitation",null,null,{"$f":"O7*O10","v":{"$error":"#N/A"}},null,null,null,"Vapor Pressure (psia) of fluid at temp.",{"$f":"((O5^(77.345+(0.0057*O4)-(7235/O4)))/O4^8.2)*0.0001450377","v":2.1664092211931982E-2},null,{"$f":"DATA!A8","v":"ALCOHOL, PROPYL [S.G. 0.802]"},{"$f":"DATA!F9","v":"ETHYLENE [S.G. 1.047]"},null,"4\" Tubing Port (3.83)",3.83,8.5000000000000006E-2,3.83,"3/4\" Slot Upstream",null,5.0750000000000002,162.86000000000001]
[null,"Temperature (°F)",null,null,null,null,"∆P critical",null,null,{"$f":"O8^2*O10","v":{"$error":"#N/A"}},null,null,null,"∆Ps (psia)",{"$f":"O15-(0.96-0.28*(SQRT(O9/O6)))*O9","v":{"$error":"#N/A"}},null,{"$f":"DATA!A9","v":"AMMONIA (AQUA) [S.G. 0.826]"},{"$f":"DATA!F10","v":"HELIUM [S.G. 0.144]"},null,"6\" Tubing Port (5.78)",5.78,0.11,5.78,"1\" Slot Upstream",null,6.5250000000000004,173.66]
[null,null,null,null,null,null,null,null,null,null,null,"valve outlet diameter (in)",null,null,{"$f":"VLOOKUP(I2,T1:X10,4,FALSE)","v":1.37},null,{"$f":"DATA!A10","v":"ANILINE [S.G. 1.022]"},{"$f":"DATA!F11","v":"HYDROGEN [S.G. 0.065]"},null,null,null,null,null,null,null,7.9749999999999996,182.66]
[null,null,null,null,null,null,null,null,null,null,null,"SLg (gas property factor) =",null,null,{"$f":"LOOKUP(E22,DATA!F2:F15,DATA!H2:H15)","v":{"$error":"#N/A"}},null,{"$f":"DATA!A11","v":"BENZENE [S.G. 0.876]"},{"$f":"DATA!F12","v":"METHANE [S.G. 0.550]"},null,null,null,null,null,null,null,9.4250000000000007,190.4]
[null,"ENTER VALUES (SATURATED STEAM)",null,null,null,null,"DO NOT ENTER DATA HERE",null,null,null,null,"G specific gravity gas =",null,null,{"$f":"LOOKUP(E22,DATA!F2:F15,DATA!I2:I15)","v":{"$error":"#N/A"}},null,{"$f":"DATA!A12","v":"BENZOL  [S.G. 0.877]"},{"$f":"DATA!F13","v":"NITROGEN [S.G. 0.969]"},null,null,null,null,null,null,null,10.875,197.24]
[null,"UPSTREAM PRESSURE (PSIA)",null,null,null,null,"PRESSURE DROP (PSI)",null,null,{"$f":"E14-E15","v":0},null,"Flowing temperature (°R) =",null,null,{"$f":"E25+459.67","v":459.67},null,{"$f":"DATA!A13","v":"BROMINE [S.G. 3.12]"},{"$f":"DATA!F14","v":"OXYGEN [S.G. 1.099]"},null,null,null,null,null,null,null,12.324999999999999,203.36]
[null,"DOWNSTREAM PRESSURE (PSIA)",null,null,null,null,"REQUIRED CV",null,null,{"$f":"0+IF(J14<0.5*0.36*E14,E16/(2.1*(J14*(E14+E15))^0.5),E16/(1.83*0.6*E14))","v":{"$error":"#DIV/0!"}},null,"Convert Upstream Pressure to PSIA =",null,null,{"$f":"($E$6)+14.7","v":14.7},null,{"$f":"DATA!A14","v":"BUTANE [S.G. 0.601]"},{"$f":"DATA!F15","v":"PROPANE [S.G. 1.531]"},null,null,null,null,null,null,null,13.775,208.76]
[null,"FLOW RATE (LB/HR)",null,null,null,null,"Temp of saturated steam (°F)",null,null,{"$f":"LOOKUP(E14,Z3:Z61,AA3:AA61)","v":{"$error":"#N/A"}},null,null,null,null,null,null,{"$f":"DATA!A15","v":"CARBON DISULFIDE [S.G. 1.265]"},null,null,null,null,null,null,null,null,14.5,211.28]
[null,null,null,null,null,null,{"$f":"IF(O19<0.33,\"Sound generated at the outlet is negligible\",IF(O19>=1,\"High Mach number; Select a larger valve size\",\"Please determine if sound level below is OK\"))","v":{"$error":"#N/A"}},null,null,null,null,null,null,"For steam:",null,null,{"$f":"DATA!A16","v":"CARBON TETRACHLORIDE [S.G. 1.589]"},null,null,null,null,null,null,null,null,14.692849999999998,212]
[null,null,null,null,null,null,"Predicted noise level (dBA)",null,null,{"$f":"10*LOG((80*(E15^2)*(O11^2)*(O25^2)*(O19^8)*(1+0.0007*J16)^6)/(O26^3))","v":{"$error":"#N/A"}},null,"Min. valve outlet diameter (in)",null,null,{"$f":"0.119*(SQRT((E16*(1+0.0007*J16))/E15))","v":{"$error":"#N/A"}},null,{"$f":"DATA!A17","v":"CARENE [0.860]"},null,null,null,null,null,null,null,null,15.95,216.14]
[null,null,null,null,null,null,null,null,null,null,null,null,"Mach number",null,{"$f":"(0.014*(E16*(1+0.0007*J16)))/(E15*O11^2)","v":{"$error":"#N/A"}},null,{"$f":"DATA!A18","v":"CHLORINE [S.G. 1.564]"},null,null,null,null,null,null,null,null,18.850000000000001,224.78]
[null,null,null,null,null,null,null,null,null,null,null,null,null,null,null,null,{"$f":"DATA!A19","v":"CHLOROFORM [S.G. 1.469]"},null,null,null,null,null,null,null,null,21.75,232.52]
[null,"ENTER VALUES (GAS)",null,null,null,null,"DO NOT ENTER DATA HERE",null,null,null,null,null,null,"For gas:",null,null,{"$f":"DATA!A20","v":"COCONUT OIL [S.G. 0.925]"},null,null,null,null,null,null,null,null,24.65,239.36]
[null,"GAS",null,null,null,null,"SPECIFIC GRAVITY",null,null,{"$f":"LOOKUP(D22,DATA!A95:B111)","v":{"$error":"#N/A"}},null,"Min. valve outlet diameter (in)",null,null,{"$f":"0.0054*(SQRT((E26*SQRT(O13*O14))/E24))","v":{"$error":"#N/A"}},null,{"$f":"DATA!A21","v":"CRESOL [S.G. 1.027]"},null,null,null,null,null,null,null,null,27.55,245.48]
[null,"UPSTREAM PRESSURE (PSIA)",null,null,null,null,"PRESSURE DROP (PSI)",null,null,{"$f":"E23-E24","v":0},null,null,"Mach number",null,{"$f":"(0.0000294*(E26*SQRT(O13*O14)))/(E24*O11^2)","v":{"$error":"#N/A"}},null,{"$f":"DATA!A22","v":"CRUDE OIL, CALIFORNIA [S.G. 0.918]"},null,null,null,null,null,null,null,null,31.9,253.94]
[null,"DOWNSTREAM PRESSURE (PSIA)",null,null,null,null,"REQUIRED CV",null,null,{"$f":"0+IF(J23<0.5*0.36*E23,(E26/963)*(J22*(E25+460)/((J23*(E23+E24))))^0.5,(E26*(J22*(E25+460))^0.5)/(834*0.6*E23))","v":{"$error":"#N/A"}},null,null,null,null,null,null,{"$f":"DATA!A23","v":"CRUDE OIL, MEXICAN [S.G. 0.976]"},null,null,null,null,null,null,null,null,37.700000000000003,263.66000000000003]
[null,"TEMPERATURE (DEGREES F)",null,null,null,null,{"$f":"IF(O23<0.33,\"Sound generated at the outlet is negligible.\",IF(O23>=1,\"Select a larger valve size.\",\"Please determine if sound level below is OK.\"))","v":{"$error":"#N/A"}},null,null,null,null,"Tubing ID",null,null,{"$f":"VLOOKUP($I$2,T2:U10,2,FALSE)","v":1.37},null,{"$f":"DATA!A24","v":"CRUDE OIL, TEXAS [S.G. 0.876]"},null,null,null,null,null,null,null,null,46.4,276.44]
[null,"FLOW RATE (SCFH)",null,null,null,null,"Predicted noise level (dBA)",null,null,{"$f":"10*LOG((0.18*(E24^2)*(O11^2)*(O25^2)*(O23^8)*O14)/(O26^3))+O12","v":{"$error":"#N/A"}},null,"Outlet pipe wall thickness (in)",null,null,{"$f":"VLOOKUP($I$2,T2:V10,3,FALSE)","v":6.5000000000000002E-2},null,{"$f":"DATA!A25","v":"CUMENE [S.G. 0.862]"},null,null,null,null,null,null,null,null,52.2,283.82]
[null,null,null,null,null,null,null,null,null,null,null,null,null,null,null,null,{"$f":"DATA!A26","v":"DECANE [S.G. 0.728]"},null,null,null,null,null,null,null,null,58,289.58]
[null,null,null,null,null,null,null,null,null,null,null,null,null,null,null,null,{"$f":"DATA!A27","v":"DODECANE [S.G. 0.757]"},null,null,null,null,null,null,null,null,63.8,296.77999999999997]
[null,"CV DATA (GPM of H2O at 1 psi ∆P)",null,null,null,null,null,null,null,null,null,null,null,null,null,null,{"$f":"DATA!A28","v":"ETHANE [S.G. 0.572]"},null,null,null,null,null,null,null,null,69.599999999999994,302.54000000000002]
[null,"Percent Open","Degrees Open",{"$f":"I2","v":"1-1/2\" Tubing Port (1.37)"},"60 V Upstream","45 V Upstream","30 V Upstream",{"$f":"VLOOKUP(I2,T1:X10,5,FALSE)","v":"3/8\" Slot Upstream"},null,null,null,null,null,null,null,null,{"$f":"DATA!A29","v":"ETHANOL [S.G. 0.79]"},null,null,null,null,null,null,null,null,79.75,311.89999999999998]
[null,null,null,null,null,null,null,null,null,null,null,null,null,null,null,null,{"$f":"DATA!A30","v":"ETHER [S.G. 0.07272]"},null,null,null,null,null,null,null,null,87,317.83999999999997]
[null,0,{"$f":"B32*0.9","v":0},{"$f":"INDEX('Cv Charts'!A2:H396,MATCH('TUBING PORT'!$I$2:$J$2&'TUBING PORT'!B32,'Cv Charts'!A2:A396&'Cv Charts'!B2:B396,0),4)","v":0},{"$f":"INDEX('Cv Charts'!A2:H396,MATCH('TUBING PORT'!$I$2:$J$2&'TUBING PORT'!B32,'Cv Charts'!A2:A396&'Cv Charts'!B2:B396,0),5)","v":0},{"$f":"INDEX('Cv Charts'!A2:H396,MATCH('TUBING PORT'!$I$2:$J$2&'TUBING PORT'!B32,'Cv Charts'!A2:A396&'Cv Charts'!B2:B396,0),6)","v":0},{"$f":"INDEX('Cv Charts'!A2:H396,MATCH('TUBING PORT'!$I$2:$J$2&'TUBING PORT'!B32,'Cv Charts'!A2:A396&'Cv Charts'!B2:B396,0),7)","v":0},{"$f":"INDEX('Cv Charts'!A2:H396,MATCH('TUBING PORT'!$I$2:$J$2&'TUBING PORT'!B32,'Cv Charts'!A2:A396&'Cv Charts'!B2:B396,0),8)","v":0},null,null,null,null,null,null,null,null,{"$f":"DATA!A31","v":"ETHER [S.G. 0.716]"},null,null,null,null,null,null,null,null,94.25,323.60000000000002]
[null,5,4.5,{"$f":"INDEX('Cv Charts'!A3:H397,MATCH('TUBING PORT'!$I$2:$J$2&'TUBING PORT'!B33,'Cv Charts'!A3:A397&'Cv Charts'!B3:B397,0),4)","v":0},{"$f":"INDEX('Cv Charts'!A3:H397,MATCH('TUBING PORT'!$I$2:$J$2&'TUBING PORT'!B33,'Cv Charts'!A3:A397&'Cv Charts'!B3:B397,0),5)","v":0},{"$f":"INDEX('Cv Charts'!A3:H397,MATCH('TUBING PORT'!$I$2:$J$2&'TUBING PORT'!B33,'Cv Charts'!A3:A397&'Cv Charts'!B3:B397,0),6)","v":0},{"$f":"INDEX('Cv Charts'!A3:H397,MATCH('TUBING PORT'!$I$2:$J$2&'TUBING PORT'!B33,'Cv Charts'!A3:A397&'Cv Charts'!B3:B397,0),7)","v":0},{"$f":"INDEX('Cv Charts'!A3:H397,MATCH('TUBING PORT'!$I$2:$J$2&'TUBING PORT'!B33,'Cv Charts'!A3:A397&'Cv Charts'!B3:B397,0),8)","v":0},null,null,null,null,null,null,null,null,{"$f":"DATA!A32","v":"ETHYLAMINE [S.G. 0.683]"},null,null,null,null,null,null,null,null,101.5,329]
[null,10,9,{"$f":"INDEX('Cv Charts'!A4:H398,MATCH('TUBING PORT'!$I$2:$J$2&'TUBING PORT'!B34,'Cv Charts'!A4:A398&'Cv Charts'!B4:B398,0),4)","v":0},{"$f":"INDEX('Cv Charts'!A4:H398,MATCH('TUBING PORT'!$I$2:$J$2&'TUBING PORT'!B34,'Cv Charts'!A4:A398&'Cv Charts'!B4:B398,0),5)","v":0},{"$f":"INDEX('Cv Charts'!A4:H398,MATCH('TUBING PORT'!$I$2:$J$2&'TUBING PORT'!B34,'Cv Charts'!A4:A398&'Cv Charts'!B4:B398,0),6)","v":0},{"$f":"INDEX('Cv Charts'!A4:H398,MATCH('TUBING PORT'!$I$2:$J$2&'TUBING PORT'!B34,'Cv Charts'!A4:A398&'Cv Charts'!B4:B398,0),7)","v":0},{"$f":"INDEX('Cv Charts'!A4:H398,MATCH('TUBING PORT'!$I$2:$J$2&'TUBING PORT'!B34,'Cv Charts'!A4:A398&'Cv Charts'!B4:B398,0),8)","v":0},null,null,null,null,null,null,null,null,{"$f":"DATA!A33","v":"ETHYLENE GLYCOL [S.G. 1.100]"},null,null,null,null,null,null,null,null,108.75,334.04]
[null,15,13.5,{"$f":"INDEX('Cv Charts'!A5:H399,MATCH('TUBING PORT'!$I$2:$J$2&'TUBING PORT'!B35,'Cv Charts'!A5:A399&'Cv Charts'!B5:B399,0),4)","v":0.35473410000000005},{"$f":"INDEX('Cv Charts'!A5:H399,MATCH('TUBING PORT'!$I$2:$J$2&'TUBING PORT'!B35,'Cv Charts'!A5:A399&'Cv Charts'!B5:B399,0),5)","v":0.10698330000000002},{"$f":"INDEX('Cv Charts'!A5:H399,MATCH('TUBING PORT'!$I$2:$J$2&'TUBING PORT'!B35,'Cv Charts'!A5:A399&'Cv Charts'!B5:B399,0),6)","v":0.1632903},{"$f":"INDEX('Cv Charts'!A5:H399,MATCH('TUBING PORT'!$I$2:$J$2&'TUBING PORT'!B35,'Cv Charts'!A5:A399&'Cv Charts'!B5:B399,0),7)","v":0.16141340000000001},{"$f":"INDEX('Cv Charts'!A5:H399,MATCH('TUBING PORT'!$I$2:$J$2&'TUBING PORT'!B35,'Cv Charts'!A5:A399&'Cv Charts'!B5:B399,0),8)","v":0.47196500000000002},null,null,null,null,null,null,null,null,{"$f":"DATA!A34","v":"FLUORINE (FREON) REFRIGERANT R-11 [S.G. 1.480]"},null,null,null,null,null,null,null,null,116,338.72]
[null,20,18,{"$f":"INDEX('Cv Charts'!A6:H400,MATCH('TUBING PORT'!$I$2:$J$2&'TUBING PORT'!B36,'Cv Charts'!A6:A400&'Cv Charts'!B6:B400,0),4)","v":1.5343657500000003},{"$f":"INDEX('Cv Charts'!A6:H400,MATCH('TUBING PORT'!$I$2:$J$2&'TUBING PORT'!B36,'Cv Charts'!A6:A400&'Cv Charts'!B6:B400,0),5)","v":0.46453275000000005},{"$f":"INDEX('Cv Charts'!A6:H400,MATCH('TUBING PORT'!$I$2:$J$2&'TUBING PORT'!B36,'Cv Charts'!A6:A400&'Cv Charts'!B6:B400,0),6)","v":0.43637925000000005},{"$f":"INDEX('Cv Charts'!A6:H400,MATCH('TUBING PORT'!$I$2:$J$2&'TUBING PORT'!B36,'Cv Charts'!A6:A400&'Cv Charts'!B6:B400,0),7)","v":0.55837775000000001},{"$f":"INDEX('Cv Charts'!A6:H400,MATCH('TUBING PORT'!$I$2:$J$2&'TUBING PORT'!B36,'Cv Charts'!A6:A400&'Cv Charts'!B6:B400,0),8)","v":1.2604000000000002},null,null,null,null,null,null,null,null,{"$f":"DATA!A35","v":"FLUORINE [S.G. 1.108]"},null,null,null,null,null,null,null,null,123.25,343.22]
[null,25,22.5,{"$f":"INDEX('Cv Charts'!A7:H401,MATCH('TUBING PORT'!$I$2:$J$2&'TUBING PORT'!B37,'Cv Charts'!A7:A401&'Cv Charts'!B7:B401,0),4)","v":2.6905361500000002},{"$f":"INDEX('Cv Charts'!A7:H401,MATCH('TUBING PORT'!$I$2:$J$2&'TUBING PORT'!B37,'Cv Charts'!A7:A401&'Cv Charts'!B7:B401,0),5)","v":0.80706700000000009},{"$f":"INDEX('Cv Charts'!A7:H401,MATCH('TUBING PORT'!$I$2:$J$2&'TUBING PORT'!B37,'Cv Charts'!A7:A401&'Cv Charts'!B7:B401,0),6)","v":0.61937700000000007},{"$f":"INDEX('Cv Charts'!A7:H401,MATCH('TUBING PORT'!$I$2:$J$2&'TUBING PORT'!B37,'Cv Charts'!A7:A401&'Cv Charts'!B7:B401,0),7)","v":1.1120632500000003},{"$f":"INDEX('Cv Charts'!A7:H401,MATCH('TUBING PORT'!$I$2:$J$2&'TUBING PORT'!B37,'Cv Charts'!A7:A401&'Cv Charts'!B7:B401,0),8)","v":2.1509},null,null,null,null,null,null,null,null,{"$f":"DATA!A36","v":"FLUORINE REFRIGERANT R-12 [S.G. 1.315]"},null,null,null,null,null,null,null,null,130.5,347.72]
[null,30,27,{"$f":"INDEX('Cv Charts'!A8:H402,MATCH('TUBING PORT'!$I$2:$J$2&'TUBING PORT'!B38,'Cv Charts'!A8:A402&'Cv Charts'!B8:B402,0),4)","v":2.9795787500000004},{"$f":"INDEX('Cv Charts'!A8:H402,MATCH('TUBING PORT'!$I$2:$J$2&'TUBING PORT'!B38,'Cv Charts'!A8:A402&'Cv Charts'!B8:B402,0),5)","v":1.3232145000000002},{"$f":"INDEX('Cv Charts'!A8:H402,MATCH('TUBING PORT'!$I$2:$J$2&'TUBING PORT'!B38,'Cv Charts'!A8:A402&'Cv Charts'!B8:B402,0),6)","v":0.97598800000000019},{"$f":"INDEX('Cv Charts'!A8:H402,MATCH('TUBING PORT'!$I$2:$J$2&'TUBING PORT'!B38,'Cv Charts'!A8:A402&'Cv Charts'!B8:B402,0),7)","v":1.5812882500000003},{"$f":"INDEX('Cv Charts'!A8:H402,MATCH('TUBING PORT'!$I$2:$J$2&'TUBING PORT'!B38,'Cv Charts'!A8:A402&'Cv Charts'!B8:B402,0),8)","v":3.0277000000000003},null,null,null,null,null,null,null,null,{"$f":"DATA!A37","v":"FLUORINE REFRIGERANT R-22 [S.G. 1.197]"},null,null,null,null,null,null,null,null,137.75,351.86]
[null,35,31.5,{"$f":"INDEX('Cv Charts'!A9:H403,MATCH('TUBING PORT'!$I$2:$J$2&'TUBING PORT'!B39,'Cv Charts'!A9:A403&'Cv Charts'!B9:B403,0),4)","v":3.9649512500000004},{"$f":"INDEX('Cv Charts'!A9:H403,MATCH('TUBING PORT'!$I$2:$J$2&'TUBING PORT'!B39,'Cv Charts'!A9:A403&'Cv Charts'!B9:B403,0),5)","v":1.9801295000000001},{"$f":"INDEX('Cv Charts'!A9:H403,MATCH('TUBING PORT'!$I$2:$J$2&'TUBING PORT'!B39,'Cv Charts'!A9:A403&'Cv Charts'!B9:B403,0),6)","v":1.7173635000000003},{"$f":"INDEX('Cv Charts'!A9:H403,MATCH('TUBING PORT'!$I$2:$J$2&'TUBING PORT'!B39,'Cv Charts'!A9:A403&'Cv Charts'!B9:B403,0),7)","v":2.0176674999999999},{"$f":"INDEX('Cv Charts'!A9:H403,MATCH('TUBING PORT'!$I$2:$J$2&'TUBING PORT'!B39,'Cv Charts'!A9:A403&'Cv Charts'!B9:B403,0),8)","v":4.0620500000000002},null,null,null,null,null,null,null,null,{"$f":"DATA!A38","v":"FORMALDEHYDE [S.G. 0.815]"},null,null,null,null,null,null,null,null,145,355.82]
[null,40,36,{"$f":"INDEX('Cv Charts'!A10:H404,MATCH('TUBING PORT'!$I$2:$J$2&'TUBING PORT'!B40,'Cv Charts'!A10:A404&'Cv Charts'!B10:B404,0),4)","v":6.2172312500000011},{"$f":"INDEX('Cv Charts'!A10:H404,MATCH('TUBING PORT'!$I$2:$J$2&'TUBING PORT'!B40,'Cv Charts'!A10:A404&'Cv Charts'!B10:B404,0),5)","v":2.4775080000000003},{"$f":"INDEX('Cv Charts'!A10:H404,MATCH('TUBING PORT'!$I$2:$J$2&'TUBING PORT'!B40,'Cv Charts'!A10:A404&'Cv Charts'!B10:B404,0),6)","v":2.5009692500000003},{"$f":"INDEX('Cv Charts'!A10:H404,MATCH('TUBING PORT'!$I$2:$J$2&'TUBING PORT'!B40,'Cv Charts'!A10:A404&'Cv Charts'!B10:B404,0),7)","v":2.6276600000000001},{"$f":"INDEX('Cv Charts'!A10:H404,MATCH('TUBING PORT'!$I$2:$J$2&'TUBING PORT'!B40,'Cv Charts'!A10:A404&'Cv Charts'!B10:B404,0),8)","v":5.3978000000000002},null,null,null,null,null,null,null,null,{"$f":"DATA!A39","v":"FURFORAL [S.G. 1.159]"},null,null,null,null,null,null,null,null,152.25,359.6]
[null,45,40.5,{"$f":"INDEX('Cv Charts'!A11:H405,MATCH('TUBING PORT'!$I$2:$J$2&'TUBING PORT'!B41,'Cv Charts'!A11:A405&'Cv Charts'!B11:B405,0),4)","v":9.1405030000000007},{"$f":"INDEX('Cv Charts'!A11:H405,MATCH('TUBING PORT'!$I$2:$J$2&'TUBING PORT'!B41,'Cv Charts'!A11:A405&'Cv Charts'!B11:B405,0),5)","v":3.9180287500000004},{"$f":"INDEX('Cv Charts'!A11:H405,MATCH('TUBING PORT'!$I$2:$J$2&'TUBING PORT'!B41,'Cv Charts'!A11:A405&'Cv Charts'!B11:B405,0),6)","v":3.3174207500000006},{"$f":"INDEX('Cv Charts'!A11:H405,MATCH('TUBING PORT'!$I$2:$J$2&'TUBING PORT'!B41,'Cv Charts'!A11:A405&'Cv Charts'!B11:B405,0),7)","v":3.2470370000000002},{"$f":"INDEX('Cv Charts'!A11:H405,MATCH('TUBING PORT'!$I$2:$J$2&'TUBING PORT'!B41,'Cv Charts'!A11:A405&'Cv Charts'!B11:B405,0),8)","v":6.8020500000000004},null,null,null,null,null,null,null,null,{"$f":"DATA!A40","v":"GLYCERIN [S.G. 1.263]"},null,null,null,null,null,null,null,null,166.75,366.8]
[null,50,45,{"$f":"INDEX('Cv Charts'!A12:H406,MATCH('TUBING PORT'!$I$2:$J$2&'TUBING PORT'!B42,'Cv Charts'!A12:A406&'Cv Charts'!B12:B406,0),4)","v":11.064325500000001},{"$f":"INDEX('Cv Charts'!A12:H406,MATCH('TUBING PORT'!$I$2:$J$2&'TUBING PORT'!B42,'Cv Charts'!A12:A406&'Cv Charts'!B12:B406,0),5)","v":5.6494690000000007},{"$f":"INDEX('Cv Charts'!A12:H406,MATCH('TUBING PORT'!$I$2:$J$2&'TUBING PORT'!B42,'Cv Charts'!A12:A406&'Cv Charts'!B12:B406,0),6)","v":4.4435607500000005},{"$f":"INDEX('Cv Charts'!A12:H406,MATCH('TUBING PORT'!$I$2:$J$2&'TUBING PORT'!B42,'Cv Charts'!A12:A406&'Cv Charts'!B12:B406,0),7)","v":4.6453275000000005},{"$f":"INDEX('Cv Charts'!A12:H406,MATCH('TUBING PORT'!$I$2:$J$2&'TUBING PORT'!B42,'Cv Charts'!A12:A406&'Cv Charts'!B12:B406,0),8)","v":7.9048999999999996},null,null,null,null,null,null,null,null,{"$f":"DATA!A41","v":"GLYCEROL [S.G. 1.129]"},null,null,null,null,null,null,null,null,181.25,373.64]
[null,55,49.5,{"$f":"INDEX('Cv Charts'!A13:H407,MATCH('TUBING PORT'!$I$2:$J$2&'TUBING PORT'!B43,'Cv Charts'!A13:A407&'Cv Charts'!B13:B407,0),4)","v":13.607525000000003},{"$f":"INDEX('Cv Charts'!A13:H407,MATCH('TUBING PORT'!$I$2:$J$2&'TUBING PORT'!B43,'Cv Charts'!A13:A407&'Cv Charts'!B13:B407,0),5)","v":6.3345375000000006},{"$f":"INDEX('Cv Charts'!A13:H407,MATCH('TUBING PORT'!$I$2:$J$2&'TUBING PORT'!B43,'Cv Charts'!A13:A407&'Cv Charts'!B13:B407,0),6)","v":6.1468475000000007},{"$f":"INDEX('Cv Charts'!A13:H407,MATCH('TUBING PORT'!$I$2:$J$2&'TUBING PORT'!B43,'Cv Charts'!A13:A407&'Cv Charts'!B13:B407,0),7)","v":5.1145525000000012},{"$f":"INDEX('Cv Charts'!A13:H407,MATCH('TUBING PORT'!$I$2:$J$2&'TUBING PORT'!B43,'Cv Charts'!A13:A407&'Cv Charts'!B13:B407,0),8)","v":9.2475000000000005},null,null,null,null,null,null,null,null,{"$f":"DATA!A42","v":"GLYCOL (ETHYLENE) [S.G. 1.100]"},null,null,null,null,null,null,null,null,188.5,376.88]
[null,60,54,{"$f":"INDEX('Cv Charts'!A14:H408,MATCH('TUBING PORT'!$I$2:$J$2&'TUBING PORT'!B44,'Cv Charts'!A14:A408&'Cv Charts'!B14:B408,0),4)","v":17.112635750000003},{"$f":"INDEX('Cv Charts'!A14:H408,MATCH('TUBING PORT'!$I$2:$J$2&'TUBING PORT'!B44,'Cv Charts'!A14:A408&'Cv Charts'!B14:B408,0),5)","v":7.8219807500000016},{"$f":"INDEX('Cv Charts'!A14:H408,MATCH('TUBING PORT'!$I$2:$J$2&'TUBING PORT'!B44,'Cv Charts'!A14:A408&'Cv Charts'!B14:B408,0),6)","v":7.69529},{"$f":"INDEX('Cv Charts'!A14:H408,MATCH('TUBING PORT'!$I$2:$J$2&'TUBING PORT'!B44,'Cv Charts'!A14:A408&'Cv Charts'!B14:B408,0),7)","v":6.3345375000000006},{"$f":"INDEX('Cv Charts'!A14:H408,MATCH('TUBING PORT'!$I$2:$J$2&'TUBING PORT'!B44,'Cv Charts'!A14:A408&'Cv Charts'!B14:B408,0),8)","v":9.59},null,null,null,null,null,null,null,null,{"$f":"DATA!A43","v":"GLYCOL (PROPYLENE) [S.G. 1.306]"},null,null,null,null,null,null,null,null,217.5,388.94]
[null,65,58.5,{"$f":"INDEX('Cv Charts'!A15:H409,MATCH('TUBING PORT'!$I$2:$J$2&'TUBING PORT'!B45,'Cv Charts'!A15:A409&'Cv Charts'!B15:B409,0),4)","v":22.391417000000001},{"$f":"INDEX('Cv Charts'!A15:H409,MATCH('TUBING PORT'!$I$2:$J$2&'TUBING PORT'!B45,'Cv Charts'!A15:A409&'Cv Charts'!B15:B409,0),5)","v":9.6660350000000026},{"$f":"INDEX('Cv Charts'!A15:H409,MATCH('TUBING PORT'!$I$2:$J$2&'TUBING PORT'!B45,'Cv Charts'!A15:A409&'Cv Charts'!B15:B409,0),6)","v":9.4314225000000018},{"$f":"INDEX('Cv Charts'!A15:H409,MATCH('TUBING PORT'!$I$2:$J$2&'TUBING PORT'!B45,'Cv Charts'!A15:A409&'Cv Charts'!B15:B409,0),7)","v":7.7422125000000008},{"$f":"INDEX('Cv Charts'!A15:H409,MATCH('TUBING PORT'!$I$2:$J$2&'TUBING PORT'!B45,'Cv Charts'!A15:A409&'Cv Charts'!B15:B409,0),8)","v":10.82985},null,null,null,null,null,null,null,null,{"$f":"DATA!A44","v":"HEPTANE [S.G. 0.681]"},null,null,null,null,null,null,null,null,232,394.52]
[null,70,63,{"$f":"INDEX('Cv Charts'!A16:H410,MATCH('TUBING PORT'!$I$2:$J$2&'TUBING PORT'!B46,'Cv Charts'!A16:A410&'Cv Charts'!B16:B410,0),4)","v":28.857337500000003},{"$f":"INDEX('Cv Charts'!A16:H410,MATCH('TUBING PORT'!$I$2:$J$2&'TUBING PORT'!B46,'Cv Charts'!A16:A410&'Cv Charts'!B16:B410,0),5)","v":12.5283075},{"$f":"INDEX('Cv Charts'!A16:H410,MATCH('TUBING PORT'!$I$2:$J$2&'TUBING PORT'!B46,'Cv Charts'!A16:A410&'Cv Charts'!B16:B410,0),6)","v":11.44909},{"$f":"INDEX('Cv Charts'!A16:H410,MATCH('TUBING PORT'!$I$2:$J$2&'TUBING PORT'!B46,'Cv Charts'!A16:A410&'Cv Charts'!B16:B410,0),7)","v":9.8068024999999999},{"$f":"INDEX('Cv Charts'!A16:H410,MATCH('TUBING PORT'!$I$2:$J$2&'TUBING PORT'!B46,'Cv Charts'!A16:A410&'Cv Charts'!B16:B410,0),8)","v":11.74775},null,null,null,null,null,null,null,null,{"$f":"DATA!A45","v":"HEXANE [S.G. 0.657]"},null,null,null,null,null,null,null,null,261,404.78]
[null,75,67.5,{"$f":"INDEX('Cv Charts'!A17:H411,MATCH('TUBING PORT'!$I$2:$J$2&'TUBING PORT'!B47,'Cv Charts'!A17:A411&'Cv Charts'!B17:B411,0),4)","v":38.58437175000001},{"$f":"INDEX('Cv Charts'!A17:H411,MATCH('TUBING PORT'!$I$2:$J$2&'TUBING PORT'!B47,'Cv Charts'!A17:A411&'Cv Charts'!B17:B411,0),5)","v":17.5020925},{"$f":"INDEX('Cv Charts'!A17:H411,MATCH('TUBING PORT'!$I$2:$J$2&'TUBING PORT'!B47,'Cv Charts'!A17:A411&'Cv Charts'!B17:B411,0),6)","v":13.982905000000002},{"$f":"INDEX('Cv Charts'!A17:H411,MATCH('TUBING PORT'!$I$2:$J$2&'TUBING PORT'!B47,'Cv Charts'!A17:A411&'Cv Charts'!B17:B411,0),7)","v":12.012160000000002},{"$f":"INDEX('Cv Charts'!A17:H411,MATCH('TUBING PORT'!$I$2:$J$2&'TUBING PORT'!B47,'Cv Charts'!A17:A411&'Cv Charts'!B17:B411,0),8)","v":12.768400000000002},null,null,null,null,null,null,null,null,{"$f":"DATA!A46","v":"HEXANOL [S.G. 0.813]"},null,null,null,null,null,null,null,null,290,414.32]
[null,80,72,{"$f":"INDEX('Cv Charts'!A18:H412,MATCH('TUBING PORT'!$I$2:$J$2&'TUBING PORT'!B48,'Cv Charts'!A18:A412&'Cv Charts'!B18:B412,0),4)","v":50.896835750000008},{"$f":"INDEX('Cv Charts'!A18:H412,MATCH('TUBING PORT'!$I$2:$J$2&'TUBING PORT'!B48,'Cv Charts'!A18:A412&'Cv Charts'!B18:B412,0),5)","v":23.555095000000005},{"$f":"INDEX('Cv Charts'!A18:H412,MATCH('TUBING PORT'!$I$2:$J$2&'TUBING PORT'!B48,'Cv Charts'!A18:A412&'Cv Charts'!B18:B412,0),6)","v":17.220557500000002},{"$f":"INDEX('Cv Charts'!A18:H412,MATCH('TUBING PORT'!$I$2:$J$2&'TUBING PORT'!B48,'Cv Charts'!A18:A412&'Cv Charts'!B18:B412,0),7)","v":14.311362500000001},{"$f":"INDEX('Cv Charts'!A18:H412,MATCH('TUBING PORT'!$I$2:$J$2&'TUBING PORT'!B48,'Cv Charts'!A18:A412&'Cv Charts'!B18:B412,0),8)","v":14.385},null,null,null,null,null,null,null,null,{"$f":"DATA!A47","v":"HEXENE [S.G. 0.673]"},null,null,null,null,null,null,null,null,304.5,418.82]
[null,85,76.5,{"$f":"INDEX('Cv Charts'!A19:H413,MATCH('TUBING PORT'!$I$2:$J$2&'TUBING PORT'!B49,'Cv Charts'!A19:A413&'Cv Charts'!B19:B413,0),4)","v":66.024649750000009},{"$f":"INDEX('Cv Charts'!A19:H413,MATCH('TUBING PORT'!$I$2:$J$2&'TUBING PORT'!B49,'Cv Charts'!A19:A413&'Cv Charts'!B19:B413,0),5)","v":28.843260750000002},{"$f":"INDEX('Cv Charts'!A19:H413,MATCH('TUBING PORT'!$I$2:$J$2&'TUBING PORT'!B49,'Cv Charts'!A19:A413&'Cv Charts'!B19:B413,0),6)","v":21.302815000000002},{"$f":"INDEX('Cv Charts'!A19:H413,MATCH('TUBING PORT'!$I$2:$J$2&'TUBING PORT'!B49,'Cv Charts'!A19:A413&'Cv Charts'!B19:B413,0),7)","v":17.549015000000001},{"$f":"INDEX('Cv Charts'!A19:H413,MATCH('TUBING PORT'!$I$2:$J$2&'TUBING PORT'!B49,'Cv Charts'!A19:A413&'Cv Charts'!B19:B413,0),8)","v":16.440000000000001},null,null,null,null,null,null,null,null,{"$f":"DATA!A48","v":"HYDRAZINE [S.G. 0.797]"},null,null,null,null,null,null,null,null,333.5,427.28]
[null,90,81,{"$f":"INDEX('Cv Charts'!A20:H414,MATCH('TUBING PORT'!$I$2:$J$2&'TUBING PORT'!B50,'Cv Charts'!A20:A414&'Cv Charts'!B20:B414,0),4)","v":85.868175000000008},{"$f":"INDEX('Cv Charts'!A20:H414,MATCH('TUBING PORT'!$I$2:$J$2&'TUBING PORT'!B50,'Cv Charts'!A20:A414&'Cv Charts'!B20:B414,0),5)","v":36.599550000000008},{"$f":"INDEX('Cv Charts'!A20:H414,MATCH('TUBING PORT'!$I$2:$J$2&'TUBING PORT'!B50,'Cv Charts'!A20:A414&'Cv Charts'!B20:B414,0),6)","v":26.088910000000006},{"$f":"INDEX('Cv Charts'!A20:H414,MATCH('TUBING PORT'!$I$2:$J$2&'TUBING PORT'!B50,'Cv Charts'!A20:A414&'Cv Charts'!B20:B414,0),7)","v":21.818962500000001},{"$f":"INDEX('Cv Charts'!A20:H414,MATCH('TUBING PORT'!$I$2:$J$2&'TUBING PORT'!B50,'Cv Charts'!A20:A414&'Cv Charts'!B20:B414,0),8)","v":18.015500000000003},null,null,null,null,null,null,null,null,{"$f":"DATA!A49","v":"KEROSENE [S.G. 0.820]"},null,null,null,null,null,null,null,null,348,431.24]
[null,95,85.5,{"$f":"INDEX('Cv Charts'!A21:H415,MATCH('TUBING PORT'!$I$2:$J$2&'TUBING PORT'!B51,'Cv Charts'!A21:A415&'Cv Charts'!B21:B415,0),4)","v":114.49090000000001},{"$f":"INDEX('Cv Charts'!A21:H415,MATCH('TUBING PORT'!$I$2:$J$2&'TUBING PORT'!B51,'Cv Charts'!A21:A415&'Cv Charts'!B21:B415,0),5)","v":48.330175000000004},{"$f":"INDEX('Cv Charts'!A21:H415,MATCH('TUBING PORT'!$I$2:$J$2&'TUBING PORT'!B51,'Cv Charts'!A21:A415&'Cv Charts'!B21:B415,0),6)","v":30.968850000000003},{"$f":"INDEX('Cv Charts'!A21:H415,MATCH('TUBING PORT'!$I$2:$J$2&'TUBING PORT'!B51,'Cv Charts'!A21:A415&'Cv Charts'!B21:B415,0),7)","v":25.807375000000004},{"$f":"INDEX('Cv Charts'!A21:H415,MATCH('TUBING PORT'!$I$2:$J$2&'TUBING PORT'!B51,'Cv Charts'!A21:A415&'Cv Charts'!B21:B415,0),8)","v":18.666250000000002},null,null,null,null,null,null,null,null,{"$f":"DATA!A50","v":"KRYPTON [S.G. 2.818]"}]
[null,100,90,{"$f":"INDEX('Cv Charts'!A22:H416,MATCH('TUBING PORT'!$I$2:$J$2&'TUBING PORT'!B52,'Cv Charts'!A22:A416&'Cv Charts'!B22:B416,0),4)","v":175.95937499999999},{"$f":"INDEX('Cv Charts'!A22:H416,MATCH('TUBING PORT'!$I$2:$J$2&'TUBING PORT'!B52,'Cv Charts'!A22:A416&'Cv Charts'!B22:B416,0),5)","v":60.530025000000009},{"$f":"INDEX('Cv Charts'!A22:H416,MATCH('TUBING PORT'!$I$2:$J$2&'TUBING PORT'!B52,'Cv Charts'!A22:A416&'Cv Charts'!B22:B416,0),6)","v":42.230250000000005},{"$f":"INDEX('Cv Charts'!A22:H416,MATCH('TUBING PORT'!$I$2:$J$2&'TUBING PORT'!B52,'Cv Charts'!A22:A416&'Cv Charts'!B22:B416,0),7)","v":30.968850000000003},{"$f":"INDEX('Cv Charts'!A22:H416,MATCH('TUBING PORT'!$I$2:$J$2&'TUBING PORT'!B52,'Cv Charts'!A22:A416&'Cv Charts'!B22:B416,0),8)","v":19.4129},null,null,null,null,null,null,null,null,"LIQUID NITROGEN [S.G. 0.807]"]
[null,null,null,null,null,null,null,null,null,null,null,null,null,null,null,null,"LIQUIFIED NATURAL GAS (LNG) [S.G. 0.43]",null,null,null,null,null,null,null,null,377,438.8]
[null,null,null,null,null,null,null,null,null,null,null,null,null,null,null,null,{"$f":"DATA!A53","v":"LP GAS (PROPANE) [S.G. 1.500]"},null,null,null,null,null,null,null,null,391.5,442.58]
[null,null,null,null,null,null,null,null,null,null,null,null,null,null,null,null,{"$f":"DATA!A54","v":"MERCURY [S.G. 13.633]"},null,null,null,null,null,null,null,null,420.5,449.6]
[null,null,null,null,null,null,null,null,null,null,null,null,null,null,null,null,{"$f":"DATA!A55","v":"METHANE [S.G. 0.466]"},null,null,null,null,null,null,null,null,435,452.84]
[null,null,null,null,null,null,null,null,null,null,null,null,null,null,null,null,{"$f":"DATA!A56","v":"METHANOL  [S.G. 0.79]"},null,null,null,null,null,null,null,null,464,459.32]
[null,null,null,null,null,null,null,null,null,null,null,null,null,null,null,null,{"$f":"DATA!A57","v":"MOLASSES B [S.G. 1.445]"},null,null,null,null,null,null,null,null,493,465.62]
[null,null,null,null,null,null,null,null,null,null,null,null,null,null,null,null,{"$f":"DATA!A58","v":"NAPTHALENE [S.G. 0.963]"},null,null,null,null,null,null,null,null,522,471.56]
[null,null,null,null,null,null,null,null,null,null,null,null,null,null,null,null,{"$f":"DATA!A59","v":"NEON [S.G. 0.697]"},null,null,null,null,null,null,null,null,551,477.14]
[null,null,null,null,null,null,null,null,null,null,null,null,null,null,null,null,{"$f":"DATA!A60","v":"NONANOL [S.G. 0.823]"},null,null,null,null,null,null,null,null,580,482.54]
[null,null,null,null,null,null,null,null,null,null,null,null,null,null,null,null,{"$f":"DATA!A61","v":"OCTANE [S.G. 0.701]"}]
[null,null,null,null,null,null,null,null,null,null,null,null,null,null,null,null,{"$f":"DATA!A62","v":"OLIVE OIL [S.G. 0.911]"}]
[null,null,null,null,null,null,null,null,null,null,null,null,null,null,null,null,{"$f":"DATA!A63","v":"OXYGEN [S.G. 1.140]"}]
[null,null,null,null,null,null,null,null,null,null,null,null,null,null,null,null,{"$f":"DATA!A64","v":"PALM OIL [S.G. 0.924]"}]
[null,null,null,null,null,null,null,null,null,null,null,null,null,null,null,null,{"$f":"DATA!A65","v":"PALMITIC ACID [S.G. 0.853]"}]
[null,null,null,null,null,null,null,null,null,null,null,null,null,null,null,null,{"$f":"DATA!A66","v":"PENTANE [S.G. 0.755]"}]
[null,null,null,null,null,null,null,null,null,null,null,null,null,null,null,null,{"$f":"DATA!A67","v":"PHENOL [S.G. 1.075]"}]
[null,null,null,null,null,null,null,null,null,null,null,null,null,null,null,null,{"$f":"DATA!A68","v":"PHOSGENE [S.G. 1.381]"}]
[null,null,null,null,null,null,null,null,null,null,null,null,null,null,null,null,{"$f":"DATA!A69","v":"PINENE [S.G. 0.858]"}]
[null,null,null,null,null,null,null,null,null,null,null,null,null,null,null,null,{"$f":"DATA!A70","v":"PROPANE [S.G. 0.540]"}]
[null,null,null,null,null,null,null,null,null,null,null,null,null,null,null,null,{"$f":"DATA!A71","v":"PROPYLENE [S.G. 0.516]"}]
[null,null,null,null,null,null,null,null,null,null,null,null,null,null,null,null,{"$f":"DATA!A72","v":"PROPYLENE GLYCOL [S.G. 1.036]"}]
[null,null,null,null,null,null,null,null,null,null,null,null,null,null,null,null,{"$f":"DATA!A73","v":"PYRIDINE [S.G. 0.968]"}]
[null,null,null,null,null,null,null,null,null,null,null,null,null,null,null,null,{"$f":"DATA!A74","v":"REFRIGERANT 12 [S.G. 1.315]"}]
[null,null,null,null,null,null,null,null,null,null,null,null,null,null,null,null,{"$f":"DATA!A75","v":"REFRIGERANT 22 [S.G. 1.197]"}]
[null,null,null,null,null,null,null,null,null,null,null,null,null,null,null,null,{"$f":"DATA!A76","v":"SAE 10 OIL   [S.G. 0.908]"}]
[null,null,null,null,null,null,null,null,null,null,null,null,null,null,null,null,{"$f":"DATA!A77","v":"SAE 30 OIL   [S.G. 0.908]"}]
[null,null,null,null,null,null,null,null,null,null,null,null,null,null,null,null,{"$f":"DATA!A78","v":"SAE 50 OIL   [S.G. 0.908]"}]
[null,null,null,null,null,null,null,null,null,null,null,null,null,null,null,null,{"$f":"DATA!A79","v":"SAE 70 OIL   [S.G. 0.908]"}]
[null,null,null,null,null,null,null,null,null,null,null,null,null,null,null,null,{"$f":"DATA!A80","v":"SEA WATER [S.G. 1.028]"}]
[null,null,null,null,null,null,null,null,null,null,null,null,null,null,null,null,{"$f":"DATA!A81","v":"SILANE [S.G. 0.719]"}]
[null,null,null,null,null,null,null,null,null,null,null,null,null,null,null,null,{"$f":"DATA!A82","v":"STEARIC ACID [S.G. 0.941]"}]
[null,null,null,null,null,null,null,null,null,null,null,null,null,null,null,null,{"$f":"DATA!A83","v":"STYRENE [S.G. 0.906]"}]
[null,null,null,null,null,null,null,null,null,null,null,null,null,null,null,null,{"$f":"DATA!A84","v":"SULFURIC ACID  [S.G. 1.84]"}]
[null,null,null,null,null,null,null,null,null,null,null,null,null,null,null,null,{"$f":"DATA!A85","v":"TERPINENE [S.G. 0.850]"}]
[null,null,null,null,null,null,null,null,null,null,null,null,null,null,null,null,{"$f":"DATA!A86","v":"TOLUENE [S.G. 0.865]"}]
[null,null,null,null,null,null,null,null,null,null,null,null,null,null,null,null,{"$f":"DATA!A87","v":"TURPENTINE [S.G. 0.871]"}]
[null,null,null,null,null,null,null,null,null,null,null,null,null,null,null,null,{"$f":"DATA!A88","v":"VEGETABLE OIL  [S.G. 0.918]"}]
[null,null,null,null,null,null,null,null,null,null,null,null,null,null,null,null,{"$f":"DATA!A90","v":"WATER, PURE [S.G. 1.000]"}]
[null,null,null,null,null,null,null,null,null,null,null,null,null,null,null,null,{"$f":"DATA!A91","v":"WATER, SEA   [S.G. 1.025]"}]

{"sheet":"FULL PORT","index":3,"n_rows":91,"n_cols":28,"rows_kept":91,"cut":false,"hidden":false,"merged":[[29,1,30,1],[29,2,30,2],[29,4,30,4],[29,7,30,7],[29,5,30,5],[29,6,30,6],[29,3,30,3],[0,0,0,3],[16,6,16,9],[24,6,24,9],[8,3,8,4],[6,6,6,9],[1,8,1,9],[1,0,1,7],[2,0,2,7],[21,3,21,4],[5,12,5,13],[25,11,25,13],[24,11,24,13],[17,11,17,13],[18,12,18,13],[21,11,21,13],[22,12,22,13],[13,11,13,13],[7,11,7,13],[10,11,10,13],[11,11,11,13],[12,11,12,13],[6,10,6,13],[8,10,8,13],[14,11,14,13]]}
["TO DETERMINE THE REQUIRED CV:",null,null,null,null,null,null,null,null,null,null,null,null,"Kc =",0.24,null,null,null,null,"Size","Outlet\nDiameter","Slot Width",null,"Size","Schedule","OD","Thickness","ID"]
["Select the desired valve size from the following drop-down list:  ",null,null,null,null,null,null,null,null,null,null,null,null,"Cf =",0.6,null,{"$f":"DATA!A89","v":"WATER [S.G. 1.000]"},{"$f":"DATA!F3","v":"AIR [S.G. 1.0000]"},null,"1/2\" Full Port",0.5,"1/8\" Slot Upstream",null,"1/2\" Full Port",5,0.84,6.5000000000000002E-2,{"$f":"Z2-2*AA2","v":0.71}]
["Select the pipe schedule from the following drop-down list:  ",null,null,null,null,null,null,null,null,null,null,null,null,"T (°C) =",{"$f":"5/9*(E10-32)","v":-17.777777777777779},null,{"$f":"DATA!A2","v":"ACETIC ACID [S.G. 1.052]"},{"$f":"DATA!F2","v":"ACETYLENE [S.G. 0.903]"},null,"3/4\" Full Port",0.75,"1/8\" Slot Upstream",null,{"$f":"$T$2","v":"1/2\" Full Port"},10,0.84,8.3000000000000004E-2,{"$f":"Z3-2*AA3","v":0.67399999999999993}]
[null,null,null,null,null,null,null,null,null,null,null,null,null,"T (°K) =",{"$f":"273+O3","v":255.22222222222223},null,{"$f":"DATA!A3","v":"ACETONE [S.G. 0.787]"},{"$f":"DATA!F4","v":"AMMONIA [S.G. 0.589]"},null,"1\" Full Port",1,"3/16\" Slot Upstream",null,{"$f":"$T$2","v":"1/2\" Full Port"},40,0.84,0.109,0.622]
[null,"ENTER VALUES (LIQUID)",null,null,null,null,"DO NOT ENTER DATA HERE",null,null,null,null,null,null,"e =",2.7182818284590402,null,{"$f":"DATA!A4","v":"ACETYLENE, LIQUID [S.G. 0.900]"},{"$f":"DATA!F5","v":"ARGON [S.G. 1.374]"},null,"1-1/2\" Full Port",1.5,"3/8\" Slot Upstream",null,{"$f":"$T$2","v":"1/2\" Full Port"},80,0.84,0.14699999999999999,0.54600000000000004]
[null,"UPSTREAM PRESSURE (PSIG)",null,null,null,null,"PRESSURE DROP (PSI)",null,null,{"$f":"E6-E7","v":0},null,null,"Critical Pressure (Pc)",null,{"$f":"LOOKUP(D9,DATA!A2:A91,DATA!B2:B91)","v":{"$error":"#N/A"}},null,{"$f":"DATA!A5","v":"ALCOHOL [S.G. 0.802]"},{"$f":"DATA!F6","v":"CARBON DIOXIDE [S.G. 1.531]"},null,"2\" Full Port",2,"3/8\" Slot Upstream",null,"3/4\" Full Port",{"$f":"$Y$2","v":5},1.05,6.5000000000000002E-2,0.92]
[null,"DOWNSTREAM PRESSURE (PSIG)",null,null,null,null,{"$f":"IF(J6=0,\"\",(IF(AND(J6<J10,J6>J9),\"Incipient cavitation is expected\",IF(J6>J10,\"Cavitation will occur\",\"\"))))","v":""},null,null,null,"Coeff. of Incipient Cavitation (Kc - psia)",null,null,null,{"$f":"O1","v":0.24},null,{"$f":"DATA!A6","v":"ALCOHOL, ETHYL (ETHANOL) [S.G. 0.787]"},{"$f":"DATA!F7","v":"CARBON MONOXIDE [S.G. 0.969]"},null,"2-1/2\" Full Port",2.5,"3/8\" Slot Upstream",null,{"$f":"$T$3","v":"3/4\" Full Port"},{"$f":"$Y$3","v":10},1.05,8.3000000000000004E-2,0.88400000000000001]
[null,"FLOW RATE (GPM)",null,null,null,null,"REQUIRED CV",null,null,{"$f":"E8*(SQRT(IF((LOOKUP(D9,DATA!A2:A91,DATA!C2:C91))=0,1,(LOOKUP(D9,DATA!A2:A91,DATA!C2:C91)))/J6))","v":{"$error":"#N/A"}},null,"Critical Flow Factor (Cf)",null,null,{"$f":"O2","v":0.6},null,{"$f":"DATA!A7","v":"ALCOHOL, METHYL (METHANOL) [S.G. 0.791]"},{"$f":"DATA!F8","v":"ETHANE [S.G. 2.487]"},null,"3\" Full Port",3,"5/8\" Slot Upstream",null,{"$f":"$T$3","v":"3/4\" Full Port"},{"$f":"$Y$4","v":40},1.05,0.113,0.82400000000000007]
[null,"FLUID",null,null,null,null,"∆P incipient cavitation",null,null,{"$f":"O7*O10","v":{"$error":"#N/A"}},"Vapor Pressure (psia) of fluid at temp.",null,null,null,{"$f":"((O5^(77.345+(0.0057*O4)-(7235/O4)))/O4^8.2)*0.0001450377","v":2.1664092211931982E-2},null,{"$f":"DATA!A8","v":"ALCOHOL, PROPYL [S.G. 0.802]"},{"$f":"DATA!F9","v":"ETHYLENE [S.G. 1.047]"},null,"4\" Full Port",4,"3/4\" Slot Upstream",null,{"$f":"$T$3","v":"3/4\" Full Port"},{"$f":"$Y$5","v":80},1.05,0.154,0.74199999999999999]
[null,"Temperature (°F)",null,null,null,null,"∆P critical",null,null,{"$f":"O8^2*O10","v":{"$error":"#N/A"}},null,null,null,"∆Ps (psia)",{"$f":"O15-(0.96-0.28*(SQRT(O9/O6)))*O9","v":{"$error":"#N/A"}},null,{"$f":"DATA!A9","v":"AMMONIA (AQUA) [S.G. 0.826]"},{"$f":"DATA!F10","v":"HELIUM [S.G. 0.144]"},null,"6\" Full Port",6,"1\" Slot Upstream",null,"1\" Full Port",{"$f":"$Y$2","v":5},1.3149999999999999,6.5000000000000002E-2,1.1850000000000001]
[null,null,null,null,null,null,null,null,null,null,null,"valve outlet diameter (in)",null,null,{"$f":"VLOOKUP(I2,T1:V10,2,FALSE)","v":{"$error":"#N/A"}},null,{"$f":"DATA!A10","v":"ANILINE [S.G. 1.022]"},{"$f":"DATA!F11","v":"HYDROGEN [S.G. 0.065]"},null,"8\" Full Port",8,null,null,{"$f":"$T$4","v":"1\" Full Port"},{"$f":"$Y$3","v":10},1.3149999999999999,0.109,1.097]
[null,null,null,null,null,null,null,null,null,null,null,"SLg (gas property factor) =",null,null,{"$f":"LOOKUP(E22,DATA!F2:F15,DATA!H2:H15)","v":{"$error":"#N/A"}},null,{"$f":"DATA!A11","v":"BENZENE [S.G. 0.876]"},{"$f":"DATA!F12","v":"METHANE [S.G. 0.550]"},null,null,null,null,null,{"$f":"$T$4","v":"1\" Full Port"},{"$f":"$Y$4","v":40},1.3149999999999999,0.13300000000000001,1.0489999999999999]
[null,"ENTER VALUES (SATURATED STEAM)",null,null,null,null,"DO NOT ENTER DATA HERE",null,null,null,null,"G specific gravity gas =",null,null,{"$f":"LOOKUP(E22,DATA!F2:F15,DATA!I2:I15)","v":{"$error":"#N/A"}},null,{"$f":"DATA!A12","v":"BENZOL  [S.G. 0.877]"},{"$f":"DATA!F13","v":"NITROGEN [S.G. 0.969]"},null,null,null,null,null,{"$f":"$T$4","v":"1\" Full Port"},{"$f":"$Y$5","v":80},1.3149999999999999,0.17899999999999999,0.95699999999999996]
[null,"UPSTREAM PRESSURE (PSIA)",null,null,null,null,"PRESSURE DROP (PSI)",null,null,{"$f":"E14-E15","v":0},null,"Flowing temperature (°R) =",null,null,{"$f":"E25+459.67","v":459.67},null,{"$f":"DATA!A13","v":"BROMINE [S.G. 3.12]"},{"$f":"DATA!F14","v":"OXYGEN [S.G. 1.099]"},null,null,null,null,null,"1-1/2\" Full Port",{"$f":"$Y$2","v":5},1.9,6.5000000000000002E-2,1.77]
[null,"DOWNSTREAM PRESSURE (PSIA)",null,null,null,null,"REQUIRED CV",null,null,{"$f":"0+IF(J14<0.5*0.36*E14,E16/(2.1*(J14*(E14+E15))^0.5),E16/(1.83*0.6*E14))","v":{"$error":"#DIV/0!"}},null,"Upstream pressure converted to PSIA =",null,null,{"$f":"($E$6)+14.7","v":14.7},null,{"$f":"DATA!A14","v":"BUTANE [S.G. 0.601]"},{"$f":"DATA!F15","v":"PROPANE [S.G. 1.531]"},null,null,null,null,null,{"$f":"$T$5","v":"1-1/2\" Full Port"},{"$f":"$Y$3","v":10},1.9,0.109,1.6819999999999999]
[null,"FLOW RATE (LB/HR)",null,null,null,null,"Temp of saturated steam (°F)",null,null,{"$f":"LOOKUP(E14,DATA!L3:L61,DATA!M3:M61)","v":{"$error":"#N/A"}},null,null,null,null,null,null,{"$f":"DATA!A15","v":"CARBON DISULFIDE [S.G. 1.265]"},null,null,null,null,null,null,{"$f":"$T$5","v":"1-1/2\" Full Port"},{"$f":"$Y$4","v":40},1.9,0.14499999999999999,1.6099999999999999]
[null,null,null,null,null,null,{"$f":"IF(O19<0.33,\"Sound generated at the outlet is negligible\",IF(O19>=1,\"High Mach number; Select a larger valve size\",\"Please determine if sound level below is OK\"))","v":{"$error":"#N/A"}},null,null,null,null,null,null,"For steam:",null,null,{"$f":"DATA!A16","v":"CARBON TETRACHLORIDE [S.G. 1.589]"},null,null,null,null,null,null,{"$f":"$T$5","v":"1-1/2\" Full Port"},{"$f":"$Y$5","v":80},1.9,0.2,1.5]
[null,null,null,null,null,null,"Predicted noise level (dBA)",null,null,{"$f":"10*LOG((80*(E15^2)*(O11^2)*(O25^2)*(O19^8)*(1+0.0007*I3)^6)/(O26^3))","v":{"$error":"#N/A"}},null,"Min. valve outlet diameter (in)",null,null,{"$f":"0.119*(SQRT((E16*(1+0.0007*J16))/E15))","v":{"$error":"#N/A"}},null,{"$f":"DATA!A17","v":"CARENE [0.860]"},null,null,null,null,null,null,"2\" Full Port",{"$f":"$Y$2","v":5},2.375,6.5000000000000002E-2,2.2450000000000001]
[null,null,null,null,null,null,null,null,null,null,null,null,"Mach number",null,{"$f":"(0.014*(E16*(1+0.0007*I3)))/(E15*O11^2)","v":{"$error":"#N/A"}},null,{"$f":"DATA!A18","v":"CHLORINE [S.G. 1.564]"},null,null,null,null,null,null,{"$f":"$T$6","v":"2\" Full Port"},{"$f":"$Y$3","v":10},2.375,0.109,2.157]
[null,null,null,null,null,null,null,null,null,null,null,null,null,null,null,null,{"$f":"DATA!A19","v":"CHLOROFORM [S.G. 1.469]"},null,null,null,null,null,null,{"$f":"$T$6","v":"2\" Full Port"},{"$f":"$Y$4","v":40},2.375,0.154,2.0670000000000002]
[null,"ENTER VALUES (GAS)",null,null,null,null,"DO NOT ENTER DATA HERE",null,null,null,null,null,null,"For gas:",null,null,{"$f":"DATA!A20","v":"COCONUT OIL [S.G. 0.925]"},null,null,null,null,null,null,{"$f":"$T$6","v":"2\" Full Port"},{"$f":"$Y$5","v":80},2.375,0.218,1.9390000000000001]
[null,"GAS",null,null,null,null,"SPECIFIC GRAVITY",null,null,{"$f":"LOOKUP(D22,DATA!A95:B111)","v":{"$error":"#N/A"}},null,"Min. valve outlet diameter (in)",null,null,{"$f":"0.0054*(SQRT((E26*SQRT(O13*O14))/E24))","v":{"$error":"#N/A"}},null,{"$f":"DATA!A21","v":"CRESOL [S.G. 1.027]"},null,null,null,null,null,null,"2-1/2\" Full Port",{"$f":"$Y$2","v":5},2.875,8.3000000000000004E-2,2.7090000000000001]
[null,"UPSTREAM PRESSURE (PSIA)",null,null,null,null,"PRESSURE DROP (PSI)",null,null,{"$f":"E23-E24","v":0},null,null,"Mach number",null,{"$f":"(0.0000294*(E26*SQRT(O13*O14)))/(E24*O11^2)","v":{"$error":"#N/A"}},null,{"$f":"DATA!A22","v":"CRUDE OIL, CALIFORNIA [S.G. 0.918]"},null,null,null,null,null,null,{"$f":"$T$7","v":"2-1/2\" Full Port"},{"$f":"$Y$3","v":10},2.875,0.12,2.6349999999999998]
[null,"DOWNSTREAM PRESSURE (PSIA)",null,null,null,null,"REQUIRED CV",null,null,{"$f":"0+IF(J23<0.5*0.36*E23,(E26/963)*(J22*(E25+460)/((J23*(E23+E24))))^0.5,(E26*(J22*(E25+460))^0.5)/(834*0.6*E23))","v":{"$error":"#N/A"}},null,null,null,null,null,null,{"$f":"DATA!A23","v":"CRUDE OIL, MEXICAN [S.G. 0.976]"},null,null,null,null,null,null,{"$f":"$T$7","v":"2-1/2\" Full Port"},{"$f":"$Y$4","v":40},2.875,0.20300000000000001,2.4689999999999999]
[null,"TEMPERATURE (DEGREES F)",null,null,null,null,{"$f":"IF(O23<0.33,\"Sound generated at the outlet is negligible.\",IF(O23>=1,\"Select a larger valve size.\",\"Please determine if sound level below is OK.\"))","v":{"$error":"#N/A"}},null,null,null,null,"Downstream pipe diameter (in)",null,null,{"$f":"INDEX(X2:AB41,MATCH($I$2&$I$3,X2:X41&Y2:Y41,0),5)","v":{"$error":"#N/A"}},null,{"$f":"DATA!A24","v":"CRUDE OIL, TEXAS [S.G. 0.876]"},null,null,null,null,null,null,{"$f":"$T$7","v":"2-1/2\" Full Port"},{"$f":"$Y$5","v":80},2.875,0.27600000000000002,2.323]
[null,"FLOW RATE (SCFH)",null,null,null,null,"Predicted noise level (dBA)",null,null,{"$f":"10*LOG((0.18*(E24^2)*(O11^2)*(O25^2)*(O23^8)*O14)/(O26^3))+O12","v":{"$error":"#N/A"}},null,"Outlet pipe wall thickness (in)",null,null,{"$f":"INDEX(X2:AB41,MATCH($I$2&$I$3,X2:X41&Y2:Y41,0),4)","v":{"$error":"#N/A"}},null,{"$f":"DATA!A25","v":"CUMENE [S.G. 0.862]"},null,null,null,null,null,null,"3\" Full Port",{"$f":"$Y$2","v":5},3.5,8.3000000000000004E-2,3.3340000000000001]
[null,null,null,null,null,null,null,null,null,null,null,null,null,null,null,null,{"$f":"DATA!A26","v":"DECANE [S.G. 0.728]"},null,null,null,null,null,null,{"$f":"$T$8","v":"3\" Full Port"},{"$f":"$Y$3","v":10},3.5,0.12,3.26]
[null,null,null,null,null,null,null,null,null,null,null,null,null,null,null,null,{"$f":"DATA!A27","v":"DODECANE [S.G. 0.757]"},null,null,null,null,null,null,{"$f":"$T$8","v":"3\" Full Port"},{"$f":"$Y$4","v":40},3.5,0.216,3.0680000000000001]
[null,"CV DATA (GPM of H2O at 1 psi ∆P)",null,null,null,null,null,null,null,null,null,null,null,null,null,null,{"$f":"DATA!A28","v":"ETHANE [S.G. 0.572]"},null,null,null,null,null,null,{"$f":"$T$8","v":"3\" Full Port"},{"$f":"$Y$5","v":80},3.5,0.3,2.9]
[null,"Percent Open","Degrees Open",{"$f":"I2","v":0},"60 V Upstream","45 V Upstream","30 V Upstream",{"$f":"VLOOKUP(I2,T1:V10,3,FALSE)","v":{"$error":"#N/A"}},null,null,null,null,null,null,null,null,{"$f":"DATA!A29","v":"ETHANOL [S.G. 0.79]"},null,null,null,null,null,null,"4\" Full Port",{"$f":"$Y$2","v":5},4.5,8.3000000000000004E-2,4.3339999999999996]
[null,null,null,null,null,null,null,null,null,null,null,null,null,null,null,null,{"$f":"DATA!A30","v":"ETHER [S.G. 0.07272]"},null,null,null,null,null,null,{"$f":"$T$9","v":"4\" Full Port"},{"$f":"$Y$3","v":10},4.5,0.12,4.26]
[null,0,{"$f":"B32*0.9","v":0},{"$f":"INDEX('Cv Charts'!$A$2:$H$418,MATCH('FULL PORT'!$I$2:$J$2&'FULL PORT'!$B32,'Cv Charts'!$A$2:$A$418&'Cv Charts'!$B$2:$B$418,0),4)","v":{"$error":"#N/A"}},{"$f":"INDEX('Cv Charts'!$A$2:$H$418,MATCH('FULL PORT'!$I$2:$J$2&'FULL PORT'!$B32,'Cv Charts'!$A$2:$A$418&'Cv Charts'!$B$2:$B$418,0),5)","v":{"$error":"#N/A"}},{"$f":"INDEX('Cv Charts'!$A$2:$H$418,MATCH('FULL PORT'!$I$2:$J$2&'FULL PORT'!$B32,'Cv Charts'!$A$2:$A$418&'Cv Charts'!$B$2:$B$418,0),6)","v":{"$error":"#N/A"}},{"$f":"INDEX('Cv Charts'!$A$2:$H$418,MATCH('FULL PORT'!$I$2:$J$2&'FULL PORT'!$B32,'Cv Charts'!$A$2:$A$418&'Cv Charts'!$B$2:$B$418,0),7)","v":{"$error":"#N/A"}},{"$f":"INDEX('Cv Charts'!$A$2:$H$418,MATCH('FULL PORT'!$I$2:$J$2&'FULL PORT'!$B32,'Cv Charts'!$A$2:$A$418&'Cv Charts'!$B$2:$B$418,0),8)","v":{"$error":"#N/A"}},null,null,null,null,null,null,null,null,{"$f":"DATA!A31","v":"ETHER [S.G. 0.716]"},null,null,null,null,null,null,{"$f":"$T$9","v":"4\" Full Port"},{"$f":"$Y$4","v":40},4.5,0.23699999999999999,4.0259999999999998]
[null,5,{"$f":"B33*0.9","v":4.5},{"$f":"INDEX('Cv Charts'!$A$2:$H$418,MATCH('FULL PORT'!$I$2:$J$2&'FULL PORT'!$B33,'Cv Charts'!$A$2:$A$418&'Cv Charts'!$B$2:$B$418,0),4)","v":{"$error":"#N/A"}},{"$f":"INDEX('Cv Charts'!$A$2:$H$418,MATCH('FULL PORT'!$I$2:$J$2&'FULL PORT'!$B33,'Cv Charts'!$A$2:$A$418&'Cv Charts'!$B$2:$B$418,0),5)","v":{"$error":"#N/A"}},{"$f":"INDEX('Cv Charts'!$A$2:$H$418,MATCH('FULL PORT'!$I$2:$J$2&'FULL PORT'!$B33,'Cv Charts'!$A$2:$A$418&'Cv Charts'!$B$2:$B$418,0),6)","v":{"$error":"#N/A"}},{"$f":"INDEX('Cv Charts'!$A$2:$H$418,MATCH('FULL PORT'!$I$2:$J$2&'FULL PORT'!$B33,'Cv Charts'!$A$2:$A$418&'Cv Charts'!$B$2:$B$418,0),7)","v":{"$error":"#N/A"}},{"$f":"INDEX('Cv Charts'!$A$2:$H$418,MATCH('FULL PORT'!$I$2:$J$2&'FULL PORT'!$B33,'Cv Charts'!$A$2:$A$418&'Cv Charts'!$B$2:$B$418,0),8)","v":{"$error":"#N/A"}},null,null,null,null,null,null,null,null,{"$f":"DATA!A32","v":"ETHYLAMINE [S.G. 0.683]"},null,null,null,null,null,null,{"$f":"$T$9","v":"4\" Full Port"},{"$f":"$Y$5","v":80},4.5,0.33700000000000002,3.8260000000000001]
[null,10,9,{"$f":"INDEX('Cv Charts'!$A$2:$H$418,MATCH('FULL PORT'!$I$2:$J$2&'FULL PORT'!$B34,'Cv Charts'!$A$2:$A$418&'Cv Charts'!$B$2:$B$418,0),4)","v":{"$error":"#N/A"}},{"$f":"INDEX('Cv Charts'!$A$2:$H$418,MATCH('FULL PORT'!$I$2:$J$2&'FULL PORT'!$B34,'Cv Charts'!$A$2:$A$418&'Cv Charts'!$B$2:$B$418,0),5)","v":{"$error":"#N/A"}},{"$f":"INDEX('Cv Charts'!$A$2:$H$418,MATCH('FULL PORT'!$I$2:$J$2&'FULL PORT'!$B34,'Cv Charts'!$A$2:$A$418&'Cv Charts'!$B$2:$B$418,0),6)","v":{"$error":"#N/A"}},{"$f":"INDEX('Cv Charts'!$A$2:$H$418,MATCH('FULL PORT'!$I$2:$J$2&'FULL PORT'!$B34,'Cv Charts'!$A$2:$A$418&'Cv Charts'!$B$2:$B$418,0),7)","v":{"$error":"#N/A"}},{"$f":"INDEX('Cv Charts'!$A$2:$H$418,MATCH('FULL PORT'!$I$2:$J$2&'FULL PORT'!$B34,'Cv Charts'!$A$2:$A$418&'Cv Charts'!$B$2:$B$418,0),8)","v":{"$error":"#N/A"}},null,null,null,null,null,null,null,null,{"$f":"DATA!A33","v":"ETHYLENE GLYCOL [S.G. 1.100]"},null,null,null,null,null,null,"6\" Full Port",{"$f":"$Y$2","v":5},6.625,0.109,6.407]
[null,15,13.5,{"$f":"INDEX('Cv Charts'!$A$2:$H$418,MATCH('FULL PORT'!$I$2:$J$2&'FULL PORT'!$B35,'Cv Charts'!$A$2:$A$418&'Cv Charts'!$B$2:$B$418,0),4)","v":{"$error":"#N/A"}},{"$f":"INDEX('Cv Charts'!$A$2:$H$418,MATCH('FULL PORT'!$I$2:$J$2&'FULL PORT'!$B35,'Cv Charts'!$A$2:$A$418&'Cv Charts'!$B$2:$B$418,0),5)","v":{"$error":"#N/A"}},{"$f":"INDEX('Cv Charts'!$A$2:$H$418,MATCH('FULL PORT'!$I$2:$J$2&'FULL PORT'!$B35,'Cv Charts'!$A$2:$A$418&'Cv Charts'!$B$2:$B$418,0),6)","v":{"$error":"#N/A"}},{"$f":"INDEX('Cv Charts'!$A$2:$H$418,MATCH('FULL PORT'!$I$2:$J$2&'FULL PORT'!$B35,'Cv Charts'!$A$2:$A$418&'Cv Charts'!$B$2:$B$418,0),7)","v":{"$error":"#N/A"}},{"$f":"INDEX('Cv Charts'!$A$2:$H$418,MATCH('FULL PORT'!$I$2:$J$2&'FULL PORT'!$B35,'Cv Charts'!$A$2:$A$418&'Cv Charts'!$B$2:$B$418,0),8)","v":{"$error":"#N/A"}},null,null,null,null,null,null,null,null,{"$f":"DATA!A34","v":"FLUORINE (FREON) REFRIGERANT R-11 [S.G. 1.480]"},null,null,null,null,null,null,{"$f":"$T$10","v":"6\" Full Port"},{"$f":"$Y$3","v":10},6.625,0.13400000000000001,6.3570000000000002]
[null,20,18,{"$f":"INDEX('Cv Charts'!$A$2:$H$418,MATCH('FULL PORT'!$I$2:$J$2&'FULL PORT'!$B36,'Cv Charts'!$A$2:$A$418&'Cv Charts'!$B$2:$B$418,0),4)","v":{"$error":"#N/A"}},{"$f":"INDEX('Cv Charts'!$A$2:$H$418,MATCH('FULL PORT'!$I$2:$J$2&'FULL PORT'!$B36,'Cv Charts'!$A$2:$A$418&'Cv Charts'!$B$2:$B$418,0),5)","v":{"$error":"#N/A"}},{"$f":"INDEX('Cv Charts'!$A$2:$H$418,MATCH('FULL PORT'!$I$2:$J$2&'FULL PORT'!$B36,'Cv Charts'!$A$2:$A$418&'Cv Charts'!$B$2:$B$418,0),6)","v":{"$error":"#N/A"}},{"$f":"INDEX('Cv Charts'!$A$2:$H$418,MATCH('FULL PORT'!$I$2:$J$2&'FULL PORT'!$B36,'Cv Charts'!$A$2:$A$418&'Cv Charts'!$B$2:$B$418,0),7)","v":{"$error":"#N/A"}},{"$f":"INDEX('Cv Charts'!$A$2:$H$418,MATCH('FULL PORT'!$I$2:$J$2&'FULL PORT'!$B36,'Cv Charts'!$A$2:$A$418&'Cv Charts'!$B$2:$B$418,0),8)","v":{"$error":"#N/A"}},null,null,null,null,null,null,null,null,{"$f":"DATA!A35","v":"FLUORINE [S.G. 1.108]"},null,null,null,null,null,null,{"$f":"$T$10","v":"6\" Full Port"},{"$f":"$Y$4","v":40},6.625,0.28000000000000003,6.0649999999999995]
[null,25,22.5,{"$f":"INDEX('Cv Charts'!$A$2:$H$418,MATCH('FULL PORT'!$I$2:$J$2&'FULL PORT'!$B37,'Cv Charts'!$A$2:$A$418&'Cv Charts'!$B$2:$B$418,0),4)","v":{"$error":"#N/A"}},{"$f":"INDEX('Cv Charts'!$A$2:$H$418,MATCH('FULL PORT'!$I$2:$J$2&'FULL PORT'!$B37,'Cv Charts'!$A$2:$A$418&'Cv Charts'!$B$2:$B$418,0),5)","v":{"$error":"#N/A"}},{"$f":"INDEX('Cv Charts'!$A$2:$H$418,MATCH('FULL PORT'!$I$2:$J$2&'FULL PORT'!$B37,'Cv Charts'!$A$2:$A$418&'Cv Charts'!$B$2:$B$418,0),6)","v":{"$error":"#N/A"}},{"$f":"INDEX('Cv Charts'!$A$2:$H$418,MATCH('FULL PORT'!$I$2:$J$2&'FULL PORT'!$B37,'Cv Charts'!$A$2:$A$418&'Cv Charts'!$B$2:$B$418,0),7)","v":{"$error":"#N/A"}},{"$f":"INDEX('Cv Charts'!$A$2:$H$418,MATCH('FULL PORT'!$I$2:$J$2&'FULL PORT'!$B37,'Cv Charts'!$A$2:$A$418&'Cv Charts'!$B$2:$B$418,0),8)","v":{"$error":"#N/A"}},null,null,null,null,null,null,null,null,{"$f":"DATA!A36","v":"FLUORINE REFRIGERANT R-12 [S.G. 1.315]"},null,null,null,null,null,null,{"$f":"$T$10","v":"6\" Full Port"},{"$f":"$Y$5","v":80},6.625,0.432,5.7610000000000001]
[null,30,27,{"$f":"INDEX('Cv Charts'!$A$2:$H$418,MATCH('FULL PORT'!$I$2:$J$2&'FULL PORT'!$B38,'Cv Charts'!$A$2:$A$418&'Cv Charts'!$B$2:$B$418,0),4)","v":{"$error":"#N/A"}},{"$f":"INDEX('Cv Charts'!$A$2:$H$418,MATCH('FULL PORT'!$I$2:$J$2&'FULL PORT'!$B38,'Cv Charts'!$A$2:$A$418&'Cv Charts'!$B$2:$B$418,0),5)","v":{"$error":"#N/A"}},{"$f":"INDEX('Cv Charts'!$A$2:$H$418,MATCH('FULL PORT'!$I$2:$J$2&'FULL PORT'!$B38,'Cv Charts'!$A$2:$A$418&'Cv Charts'!$B$2:$B$418,0),6)","v":{"$error":"#N/A"}},{"$f":"INDEX('Cv Charts'!$A$2:$H$418,MATCH('FULL PORT'!$I$2:$J$2&'FULL PORT'!$B38,'Cv Charts'!$A$2:$A$418&'Cv Charts'!$B$2:$B$418,0),7)","v":{"$error":"#N/A"}},{"$f":"INDEX('Cv Charts'!$A$2:$H$418,MATCH('FULL PORT'!$I$2:$J$2&'FULL PORT'!$B38,'Cv Charts'!$A$2:$A$418&'Cv Charts'!$B$2:$B$418,0),8)","v":{"$error":"#N/A"}},null,null,null,null,null,null,null,null,{"$f":"DATA!A37","v":"FLUORINE REFRIGERANT R-22 [S.G. 1.197]"},null,null,null,null,null,null,"8\" Full Port",{"$f":"$Y$2","v":5},8.625,0.109,8.407]
[null,35,31.5,{"$f":"INDEX('Cv Charts'!$A$2:$H$418,MATCH('FULL PORT'!$I$2:$J$2&'FULL PORT'!$B39,'Cv Charts'!$A$2:$A$418&'Cv Charts'!$B$2:$B$418,0),4)","v":{"$error":"#N/A"}},{"$f":"INDEX('Cv Charts'!$A$2:$H$418,MATCH('FULL PORT'!$I$2:$J$2&'FULL PORT'!$B39,'Cv Charts'!$A$2:$A$418&'Cv Charts'!$B$2:$B$418,0),5)","v":{"$error":"#N/A"}},{"$f":"INDEX('Cv Charts'!$A$2:$H$418,MATCH('FULL PORT'!$I$2:$J$2&'FULL PORT'!$B39,'Cv Charts'!$A$2:$A$418&'Cv Charts'!$B$2:$B$418,0),6)","v":{"$error":"#N/A"}},{"$f":"INDEX('Cv Charts'!$A$2:$H$418,MATCH('FULL PORT'!$I$2:$J$2&'FULL PORT'!$B39,'Cv Charts'!$A$2:$A$418&'Cv Charts'!$B$2:$B$418,0),7)","v":{"$error":"#N/A"}},{"$f":"INDEX('Cv Charts'!$A$2:$H$418,MATCH('FULL PORT'!$I$2:$J$2&'FULL PORT'!$B39,'Cv Charts'!$A$2:$A$418&'Cv Charts'!$B$2:$B$418,0),8)","v":{"$error":"#N/A"}},null,null,null,null,null,null,null,null,{"$f":"DATA!A38","v":"FORMALDEHYDE [S.G. 0.815]"},null,null,null,null,null,null,"8\" Full Port",{"$f":"$Y$3","v":10},8.625,0.14799999999999999,8.3290000000000006]
[null,40,36,{"$f":"INDEX('Cv Charts'!$A$2:$H$418,MATCH('FULL PORT'!$I$2:$J$2&'FULL PORT'!$B40,'Cv Charts'!$A$2:$A$418&'Cv Charts'!$B$2:$B$418,0),4)","v":{"$error":"#N/A"}},{"$f":"INDEX('Cv Charts'!$A$2:$H$418,MATCH('FULL PORT'!$I$2:$J$2&'FULL PORT'!$B40,'Cv Charts'!$A$2:$A$418&'Cv Charts'!$B$2:$B$418,0),5)","v":{"$error":"#N/A"}},{"$f":"INDEX('Cv Charts'!$A$2:$H$418,MATCH('FULL PORT'!$I$2:$J$2&'FULL PORT'!$B40,'Cv Charts'!$A$2:$A$418&'Cv Charts'!$B$2:$B$418,0),6)","v":{"$error":"#N/A"}},{"$f":"INDEX('Cv Charts'!$A$2:$H$418,MATCH('FULL PORT'!$I$2:$J$2&'FULL PORT'!$B40,'Cv Charts'!$A$2:$A$418&'Cv Charts'!$B$2:$B$418,0),7)","v":{"$error":"#N/A"}},{"$f":"INDEX('Cv Charts'!$A$2:$H$418,MATCH('FULL PORT'!$I$2:$J$2&'FULL PORT'!$B40,'Cv Charts'!$A$2:$A$418&'Cv Charts'!$B$2:$B$418,0),8)","v":{"$error":"#N/A"}},null,null,null,null,null,null,null,null,{"$f":"DATA!A39","v":"FURFORAL [S.G. 1.159]"},null,null,null,null,null,null,"8\" Full Port",{"$f":"$Y$4","v":40},8.625,0.32200000000000001,7.9809999999999999]
[null,45,40.5,{"$f":"INDEX('Cv Charts'!$A$2:$H$418,MATCH('FULL PORT'!$I$2:$J$2&'FULL PORT'!$B41,'Cv Charts'!$A$2:$A$418&'Cv Charts'!$B$2:$B$418,0),4)","v":{"$error":"#N/A"}},{"$f":"INDEX('Cv Charts'!$A$2:$H$418,MATCH('FULL PORT'!$I$2:$J$2&'FULL PORT'!$B41,'Cv Charts'!$A$2:$A$418&'Cv Charts'!$B$2:$B$418,0),5)","v":{"$error":"#N/A"}},{"$f":"INDEX('Cv Charts'!$A$2:$H$418,MATCH('FULL PORT'!$I$2:$J$2&'FULL PORT'!$B41,'Cv Charts'!$A$2:$A$418&'Cv Charts'!$B$2:$B$418,0),6)","v":{"$error":"#N/A"}},{"$f":"INDEX('Cv Charts'!$A$2:$H$418,MATCH('FULL PORT'!$I$2:$J$2&'FULL PORT'!$B41,'Cv Charts'!$A$2:$A$418&'Cv Charts'!$B$2:$B$418,0),7)","v":{"$error":"#N/A"}},{"$f":"INDEX('Cv Charts'!$A$2:$H$418,MATCH('FULL PORT'!$I$2:$J$2&'FULL PORT'!$B41,'Cv Charts'!$A$2:$A$418&'Cv Charts'!$B$2:$B$418,0),8)","v":{"$error":"#N/A"}},null,null,null,null,null,null,null,null,{"$f":"DATA!A40","v":"GLYCERIN [S.G. 1.263]"},null,null,null,null,null,null,"8\" Full Port",{"$f":"$Y$5","v":80},8.625,0.5,7.625]
[null,50,45,{"$f":"INDEX('Cv Charts'!$A$2:$H$418,MATCH('FULL PORT'!$I$2:$J$2&'FULL PORT'!$B42,'Cv Charts'!$A$2:$A$418&'Cv Charts'!$B$2:$B$418,0),4)","v":{"$error":"#N/A"}},{"$f":"INDEX('Cv Charts'!$A$2:$H$418,MATCH('FULL PORT'!$I$2:$J$2&'FULL PORT'!$B42,'Cv Charts'!$A$2:$A$418&'Cv Charts'!$B$2:$B$418,0),5)","v":{"$error":"#N/A"}},{"$f":"INDEX('Cv Charts'!$A$2:$H$418,MATCH('FULL PORT'!$I$2:$J$2&'FULL PORT'!$B42,'Cv Charts'!$A$2:$A$418&'Cv Charts'!$B$2:$B$418,0),6)","v":{"$error":"#N/A"}},{"$f":"INDEX('Cv Charts'!$A$2:$H$418,MATCH('FULL PORT'!$I$2:$J$2&'FULL PORT'!$B42,'Cv Charts'!$A$2:$A$418&'Cv Charts'!$B$2:$B$418,0),7)","v":{"$error":"#N/A"}},{"$f":"INDEX('Cv Charts'!$A$2:$H$418,MATCH('FULL PORT'!$I$2:$J$2&'FULL PORT'!$B42,'Cv Charts'!$A$2:$A$418&'Cv Charts'!$B$2:$B$418,0),8)","v":{"$error":"#N/A"}},null,null,null,null,null,null,null,null,{"$f":"DATA!A41","v":"GLYCEROL [S.G. 1.129]"}]
[null,55,49.5,{"$f":"INDEX('Cv Charts'!$A$2:$H$418,MATCH('FULL PORT'!$I$2:$J$2&'FULL PORT'!$B43,'Cv Charts'!$A$2:$A$418&'Cv Charts'!$B$2:$B$418,0),4)","v":{"$error":"#N/A"}},{"$f":"INDEX('Cv Charts'!$A$2:$H$418,MATCH('FULL PORT'!$I$2:$J$2&'FULL PORT'!$B43,'Cv Charts'!$A$2:$A$418&'Cv Charts'!$B$2:$B$418,0),5)","v":{"$error":"#N/A"}},{"$f":"INDEX('Cv Charts'!$A$2:$H$418,MATCH('FULL PORT'!$I$2:$J$2&'FULL PORT'!$B43,'Cv Charts'!$A$2:$A$418&'Cv Charts'!$B$2:$B$418,0),6)","v":{"$error":"#N/A"}},{"$f":"INDEX('Cv Charts'!$A$2:$H$418,MATCH('FULL PORT'!$I$2:$J$2&'FULL PORT'!$B43,'Cv Charts'!$A$2:$A$418&'Cv Charts'!$B$2:$B$418,0),7)","v":{"$error":"#N/A"}},{"$f":"INDEX('Cv Charts'!$A$2:$H$418,MATCH('FULL PORT'!$I$2:$J$2&'FULL PORT'!$B43,'Cv Charts'!$A$2:$A$418&'Cv Charts'!$B$2:$B$418,0),8)","v":{"$error":"#N/A"}},null,null,null,null,null,null,null,null,{"$f":"DATA!A42","v":"GLYCOL (ETHYLENE) [S.G. 1.100]"}]
[null,60,54,{"$f":"INDEX('Cv Charts'!$A$2:$H$418,MATCH('FULL PORT'!$I$2:$J$2&'FULL PORT'!$B44,'Cv Charts'!$A$2:$A$418&'Cv Charts'!$B$2:$B$418,0),4)","v":{"$error":"#N/A"}},{"$f":"INDEX('Cv Charts'!$A$2:$H$418,MATCH('FULL PORT'!$I$2:$J$2&'FULL PORT'!$B44,'Cv Charts'!$A$2:$A$418&'Cv Charts'!$B$2:$B$418,0),5)","v":{"$error":"#N/A"}},{"$f":"INDEX('Cv Charts'!$A$2:$H$418,MATCH('FULL PORT'!$I$2:$J$2&'FULL PORT'!$B44,'Cv Charts'!$A$2:$A$418&'Cv Charts'!$B$2:$B$418,0),6)","v":{"$error":"#N/A"}},{"$f":"INDEX('Cv Charts'!$A$2:$H$418,MATCH('FULL PORT'!$I$2:$J$2&'FULL PORT'!$B44,'Cv Charts'!$A$2:$A$418&'Cv Charts'!$B$2:$B$418,0),7)","v":{"$error":"#N/A"}},{"$f":"INDEX('Cv Charts'!$A$2:$H$418,MATCH('FULL PORT'!$I$2:$J$2&'FULL PORT'!$B44,'Cv Charts'!$A$2:$A$418&'Cv Charts'!$B$2:$B$418,0),8)","v":{"$error":"#N/A"}},null,null,null,null,null,null,null,null,{"$f":"DATA!A43","v":"GLYCOL (PROPYLENE) [S.G. 1.306]"}]
[null,65,58.5,{"$f":"INDEX('Cv Charts'!$A$2:$H$418,MATCH('FULL PORT'!$I$2:$J$2&'FULL PORT'!$B45,'Cv Charts'!$A$2:$A$418&'Cv Charts'!$B$2:$B$418,0),4)","v":{"$error":"#N/A"}},{"$f":"INDEX('Cv Charts'!$A$2:$H$418,MATCH('FULL PORT'!$I$2:$J$2&'FULL PORT'!$B45,'Cv Charts'!$A$2:$A$418&'Cv Charts'!$B$2:$B$418,0),5)","v":{"$error":"#N/A"}},{"$f":"INDEX('Cv Charts'!$A$2:$H$418,MATCH('FULL PORT'!$I$2:$J$2&'FULL PORT'!$B45,'Cv Charts'!$A$2:$A$418&'Cv Charts'!$B$2:$B$418,0),6)","v":{"$error":"#N/A"}},{"$f":"INDEX('Cv Charts'!$A$2:$H$418,MATCH('FULL PORT'!$I$2:$J$2&'FULL PORT'!$B45,'Cv Charts'!$A$2:$A$418&'Cv Charts'!$B$2:$B$418,0),7)","v":{"$error":"#N/A"}},{"$f":"INDEX('Cv Charts'!$A$2:$H$418,MATCH('FULL PORT'!$I$2:$J$2&'FULL PORT'!$B45,'Cv Charts'!$A$2:$A$418&'Cv Charts'!$B$2:$B$418,0),8)","v":{"$error":"#N/A"}},null,null,null,null,null,null,null,null,{"$f":"DATA!A44","v":"HEPTANE [S.G. 0.681]"}]
[null,70,63,{"$f":"INDEX('Cv Charts'!$A$2:$H$418,MATCH('FULL PORT'!$I$2:$J$2&'FULL PORT'!$B46,'Cv Charts'!$A$2:$A$418&'Cv Charts'!$B$2:$B$418,0),4)","v":{"$error":"#N/A"}},{"$f":"INDEX('Cv Charts'!$A$2:$H$418,MATCH('FULL PORT'!$I$2:$J$2&'FULL PORT'!$B46,'Cv Charts'!$A$2:$A$418&'Cv Charts'!$B$2:$B$418,0),5)","v":{"$error":"#N/A"}},{"$f":"INDEX('Cv Charts'!$A$2:$H$418,MATCH('FULL PORT'!$I$2:$J$2&'FULL PORT'!$B46,'Cv Charts'!$A$2:$A$418&'Cv Charts'!$B$2:$B$418,0),6)","v":{"$error":"#N/A"}},{"$f":"INDEX('Cv Charts'!$A$2:$H$418,MATCH('FULL PORT'!$I$2:$J$2&'FULL PORT'!$B46,'Cv Charts'!$A$2:$A$418&'Cv Charts'!$B$2:$B$418,0),7)","v":{"$error":"#N/A"}},{"$f":"INDEX('Cv Charts'!$A$2:$H$418,MATCH('FULL PORT'!$I$2:$J$2&'FULL PORT'!$B46,'Cv Charts'!$A$2:$A$418&'Cv Charts'!$B$2:$B$418,0),8)","v":{"$error":"#N/A"}},null,null,null,null,null,null,null,null,{"$f":"DATA!A45","v":"HEXANE [S.G. 0.657]"}]
[null,75,67.5,{"$f":"INDEX('Cv Charts'!$A$2:$H$418,MATCH('FULL PORT'!$I$2:$J$2&'FULL PORT'!$B47,'Cv Charts'!$A$2:$A$418&'Cv Charts'!$B$2:$B$418,0),4)","v":{"$error":"#N/A"}},{"$f":"INDEX('Cv Charts'!$A$2:$H$418,MATCH('FULL PORT'!$I$2:$J$2&'FULL PORT'!$B47,'Cv Charts'!$A$2:$A$418&'Cv Charts'!$B$2:$B$418,0),5)","v":{"$error":"#N/A"}},{"$f":"INDEX('Cv Charts'!$A$2:$H$418,MATCH('FULL PORT'!$I$2:$J$2&'FULL PORT'!$B47,'Cv Charts'!$A$2:$A$418&'Cv Charts'!$B$2:$B$418,0),6)","v":{"$error":"#N/A"}},{"$f":"INDEX('Cv Charts'!$A$2:$H$418,MATCH('FULL PORT'!$I$2:$J$2&'FULL PORT'!$B47,'Cv Charts'!$A$2:$A$418&'Cv Charts'!$B$2:$B$418,0),7)","v":{"$error":"#N/A"}},{"$f":"INDEX('Cv Charts'!$A$2:$H$418,MATCH('FULL PORT'!$I$2:$J$2&'FULL PORT'!$B47,'Cv Charts'!$A$2:$A$418&'Cv Charts'!$B$2:$B$418,0),8)","v":{"$error":"#N/A"}},null,null,null,null,null,null,null,null,{"$f":"DATA!A46","v":"HEXANOL [S.G. 0.813]"}]
[null,80,72,{"$f":"INDEX('Cv Charts'!$A$2:$H$418,MATCH('FULL PORT'!$I$2:$J$2&'FULL PORT'!$B48,'Cv Charts'!$A$2:$A$418&'Cv Charts'!$B$2:$B$418,0),4)","v":{"$error":"#N/A"}},{"$f":"INDEX('Cv Charts'!$A$2:$H$418,MATCH('FULL PORT'!$I$2:$J$2&'FULL PORT'!$B48,'Cv Charts'!$A$2:$A$418&'Cv Charts'!$B$2:$B$418,0),5)","v":{"$error":"#N/A"}},{"$f":"INDEX('Cv Charts'!$A$2:$H$418,MATCH('FULL PORT'!$I$2:$J$2&'FULL PORT'!$B48,'Cv Charts'!$A$2:$A$418&'Cv Charts'!$B$2:$B$418,0),6)","v":{"$error":"#N/A"}},{"$f":"INDEX('Cv Charts'!$A$2:$H$418,MATCH('FULL PORT'!$I$2:$J$2&'FULL PORT'!$B48,'Cv Charts'!$A$2:$A$418&'Cv Charts'!$B$2:$B$418,0),7)","v":{"$error":"#N/A"}},{"$f":"INDEX('Cv Charts'!$A$2:$H$418,MATCH('FULL PORT'!$I$2:$J$2&'FULL PORT'!$B48,'Cv Charts'!$A$2:$A$418&'Cv Charts'!$B$2:$B$418,0),8)","v":{"$error":"#N/A"}},null,null,null,null,null,null,null,null,{"$f":"DATA!A47","v":"HEXENE [S.G. 0.673]"}]
[null,85,76.5,{"$f":"INDEX('Cv Charts'!$A$2:$H$418,MATCH('FULL PORT'!$I$2:$J$2&'FULL PORT'!$B49,'Cv Charts'!$A$2:$A$418&'Cv Charts'!$B$2:$B$418,0),4)","v":{"$error":"#N/A"}},{"$f":"INDEX('Cv Charts'!$A$2:$H$418,MATCH('FULL PORT'!$I$2:$J$2&'FULL PORT'!$B49,'Cv Charts'!$A$2:$A$418&'Cv Charts'!$B$2:$B$418,0),5)","v":{"$error":"#N/A"}},{"$f":"INDEX('Cv Charts'!$A$2:$H$418,MATCH('FULL PORT'!$I$2:$J$2&'FULL PORT'!$B49,'Cv Charts'!$A$2:$A$418&'Cv Charts'!$B$2:$B$418,0),6)","v":{"$error":"#N/A"}},{"$f":"INDEX('Cv Charts'!$A$2:$H$418,MATCH('FULL PORT'!$I$2:$J$2&'FULL PORT'!$B49,'Cv Charts'!$A$2:$A$418&'Cv Charts'!$B$2:$B$418,0),7)","v":{"$error":"#N/A"}},{"$f":"INDEX('Cv Charts'!$A$2:$H$418,MATCH('FULL PORT'!$I$2:$J$2&'FULL PORT'!$B49,'Cv Charts'!$A$2:$A$418&'Cv Charts'!$B$2:$B$418,0),8)","v":{"$error":"#N/A"}},null,null,null,null,null,null,null,null,{"$f":"DATA!A48","v":"HYDRAZINE [S.G. 0.797]"}]
[null,90,81,{"$f":"INDEX('Cv Charts'!$A$2:$H$418,MATCH('FULL PORT'!$I$2:$J$2&'FULL PORT'!$B50,'Cv Charts'!$A$2:$A$418&'Cv Charts'!$B$2:$B$418,0),4)","v":{"$error":"#N/A"}},{"$f":"INDEX('Cv Charts'!$A$2:$H$418,MATCH('FULL PORT'!$I$2:$J$2&'FULL PORT'!$B50,'Cv Charts'!$A$2:$A$418&'Cv Charts'!$B$2:$B$418,0),5)","v":{"$error":"#N/A"}},{"$f":"INDEX('Cv Charts'!$A$2:$H$418,MATCH('FULL PORT'!$I$2:$J$2&'FULL PORT'!$B50,'Cv Charts'!$A$2:$A$418&'Cv Charts'!$B$2:$B$418,0),6)","v":{"$error":"#N/A"}},{"$f":"INDEX('Cv Charts'!$A$2:$H$418,MATCH('FULL PORT'!$I$2:$J$2&'FULL PORT'!$B50,'Cv Charts'!$A$2:$A$418&'Cv Charts'!$B$2:$B$418,0),7)","v":{"$error":"#N/A"}},{"$f":"INDEX('Cv Charts'!$A$2:$H$418,MATCH('FULL PORT'!$I$2:$J$2&'FULL PORT'!$B50,'Cv Charts'!$A$2:$A$418&'Cv Charts'!$B$2:$B$418,0),8)","v":{"$error":"#N/A"}},null,null,null,null,null,null,null,null,{"$f":"DATA!A49","v":"KEROSENE [S.G. 0.820]"}]
[null,95,85.5,{"$f":"INDEX('Cv Charts'!$A$2:$H$418,MATCH('FULL PORT'!$I$2:$J$2&'FULL PORT'!$B51,'Cv Charts'!$A$2:$A$418&'Cv Charts'!$B$2:$B$418,0),4)","v":{"$error":"#N/A"}},{"$f":"INDEX('Cv Charts'!$A$2:$H$418,MATCH('FULL PORT'!$I$2:$J$2&'FULL PORT'!$B51,'Cv Charts'!$A$2:$A$418&'Cv Charts'!$B$2:$B$418,0),5)","v":{"$error":"#N/A"}},{"$f":"INDEX('Cv Charts'!$A$2:$H$418,MATCH('FULL PORT'!$I$2:$J$2&'FULL PORT'!$B51,'Cv Charts'!$A$2:$A$418&'Cv Charts'!$B$2:$B$418,0),6)","v":{"$error":"#N/A"}},{"$f":"INDEX('Cv Charts'!$A$2:$H$418,MATCH('FULL PORT'!$I$2:$J$2&'FULL PORT'!$B51,'Cv Charts'!$A$2:$A$418&'Cv Charts'!$B$2:$B$418,0),7)","v":{"$error":"#N/A"}},{"$f":"INDEX('Cv Charts'!$A$2:$H$418,MATCH('FULL PORT'!$I$2:$J$2&'FULL PORT'!$B51,'Cv Charts'!$A$2:$A$418&'Cv Charts'!$B$2:$B$418,0),8)","v":{"$error":"#N/A"}},null,null,null,null,null,null,null,null,{"$f":"DATA!A50","v":"KRYPTON [S.G. 2.818]"}]
[null,100,90,{"$f":"INDEX('Cv Charts'!$A$2:$H$418,MATCH('FULL PORT'!$I$2:$J$2&'FULL PORT'!$B52,'Cv Charts'!$A$2:$A$418&'Cv Charts'!$B$2:$B$418,0),4)","v":{"$error":"#N/A"}},{"$f":"INDEX('Cv Charts'!$A$2:$H$418,MATCH('FULL PORT'!$I$2:$J$2&'FULL PORT'!$B52,'Cv Charts'!$A$2:$A$418&'Cv Charts'!$B$2:$B$418,0),5)","v":{"$error":"#N/A"}},{"$f":"INDEX('Cv Charts'!$A$2:$H$418,MATCH('FULL PORT'!$I$2:$J$2&'FULL PORT'!$B52,'Cv Charts'!$A$2:$A$418&'Cv Charts'!$B$2:$B$418,0),6)","v":{"$error":"#N/A"}},{"$f":"INDEX('Cv Charts'!$A$2:$H$418,MATCH('FULL PORT'!$I$2:$J$2&'FULL PORT'!$B52,'Cv Charts'!$A$2:$A$418&'Cv Charts'!$B$2:$B$418,0),7)","v":{"$error":"#N/A"}},{"$f":"INDEX('Cv Charts'!$A$2:$H$418,MATCH('FULL PORT'!$I$2:$J$2&'FULL PORT'!$B52,'Cv Charts'!$A$2:$A$418&'Cv Charts'!$B$2:$B$418,0),8)","v":{"$error":"#N/A"}},null,null,null,null,null,null,null,null,"LIQUID NITROGEN [S.G. 0.807]"]
[null,null,null,null,null,null,null,null,null,null,null,null,null,null,null,null,"LIQUIFIED NATURAL GAS (LNG) [S.G. 0.43]"]
[null,null,null,null,null,null,null,null,null,null,null,null,null,null,null,null,{"$f":"DATA!A53","v":"LP GAS (PROPANE) [S.G. 1.500]"}]
[null,null,null,null,null,null,null,null,null,null,null,null,null,null,null,null,{"$f":"DATA!A54","v":"MERCURY [S.G. 13.633]"}]
[null,null,null,null,null,null,null,null,null,null,null,null,null,null,null,null,{"$f":"DATA!A55","v":"METHANE [S.G. 0.466]"}]
[null,null,null,null,null,null,null,null,null,null,null,null,null,null,null,null,{"$f":"DATA!A56","v":"METHANOL  [S.G. 0.79]"}]
[null,null,null,null,null,null,null,null,null,null,null,null,null,null,null,null,{"$f":"DATA!A57","v":"MOLASSES B [S.G. 1.445]"}]
[null,null,null,null,null,null,null,null,null,null,null,null,null,null,null,null,{"$f":"DATA!A58","v":"NAPTHALENE [S.G. 0.963]"}]
[null,null,null,null,null,null,null,null,null,null,null,null,null,null,null,null,{"$f":"DATA!A59","v":"NEON [S.G. 0.697]"}]
[null,null,null,null,null,null,null,null,null,null,null,null,null,null,null,null,{"$f":"DATA!A60","v":"NONANOL [S.G. 0.823]"}]
[null,null,null,null,null,null,null,null,null,null,null,null,null,null,null,null,{"$f":"DATA!A61","v":"OCTANE [S.G. 0.701]"}]
[null,null,null,null,null,null,null,null,null,null,null,null,null,null,null,null,{"$f":"DATA!A62","v":"OLIVE OIL [S.G. 0.911]"}]
[null,null,null,null,null,null,null,null,null,null,null,null,null,null,null,null,{"$f":"DATA!A63","v":"OXYGEN [S.G. 1.140]"}]
[null,null,null,null,null,null,null,null,null,null,null,null,null,null,null,null,{"$f":"DATA!A64","v":"PALM OIL [S.G. 0.924]"}]
[null,null,null,null,null,null,null,null,null,null,null,null,null,null,null,null,{"$f":"DATA!A65","v":"PALMITIC ACID [S.G. 0.853]"}]
[null,null,null,null,null,null,null,null,null,null,null,null,null,null,null,null,{"$f":"DATA!A66","v":"PENTANE [S.G. 0.755]"}]
[null,null,null,null,null,null,null,null,null,null,null,null,null,null,null,null,{"$f":"DATA!A67","v":"PHENOL [S.G. 1.075]"}]
[null,null,null,null,null,null,null,null,null,null,null,null,null,null,null,null,{"$f":"DATA!A68","v":"PHOSGENE [S.G. 1.381]"}]
[null,null,null,null,null,null,null,null,null,null,null,null,null,null,null,null,{"$f":"DATA!A69","v":"PINENE [S.G. 0.858]"}]
[null,null,null,null,null,null,null,null,null,null,null,null,null,null,null,null,{"$f":"DATA!A70","v":"PROPANE [S.G. 0.540]"}]
[null,null,null,null,null,null,null,null,null,null,null,null,null,null,null,null,{"$f":"DATA!A71","v":"PROPYLENE [S.G. 0.516]"}]
[null,null,null,null,null,null,null,null,null,null,null,null,null,null,null,null,{"$f":"DATA!A72","v":"PROPYLENE GLYCOL [S.G. 1.036]"}]
[null,null,null,null,null,null,null,null,null,null,null,null,null,null,null,null,{"$f":"DATA!A73","v":"PYRIDINE [S.G. 0.968]"}]
[null,null,null,null,null,null,null,null,null,null,null,null,null,null,null,null,{"$f":"DATA!A74","v":"REFRIGERANT 12 [S.G. 1.315]"}]
[null,null,null,null,null,null,null,null,null,null,null,null,null,null,null,null,{"$f":"DATA!A75","v":"REFRIGERANT 22 [S.G. 1.197]"}]
[null,null,null,null,null,null,null,null,null,null,null,null,null,null,null,null,{"$f":"DATA!A76","v":"SAE 10 OIL   [S.G. 0.908]"}]
[null,null,null,null,null,null,null,null,null,null,null,null,null,null,null,null,{"$f":"DATA!A77","v":"SAE 30 OIL   [S.G. 0.908]"}]
[null,null,null,null,null,null,null,null,null,null,null,null,null,null,null,null,{"$f":"DATA!A78","v":"SAE 50 OIL   [S.G. 0.908]"}]
[null,null,null,null,null,null,null,null,null,null,null,null,null,null,null,null,{"$f":"DATA!A79","v":"SAE 70 OIL   [S.G. 0.908]"}]
[null,null,null,null,null,null,null,null,null,null,null,null,null,null,null,null,{"$f":"DATA!A80","v":"SEA WATER [S.G. 1.028]"}]
[null,null,null,null,null,null,null,null,null,null,null,null,null,null,null,null,{"$f":"DATA!A81","v":"SILANE [S.G. 0.719]"}]
[null,null,null,null,null,null,null,null,null,null,null,null,null,null,null,null,{"$f":"DATA!A82","v":"STEARIC ACID [S.G. 0.941]"}]
[null,null,null,null,null,null,null,null,null,null,null,null,null,null,null,null,{"$f":"DATA!A83","v":"STYRENE [S.G. 0.906]"}]
[null,null,null,null,null,null,null,null,null,null,null,null,null,null,null,null,{"$f":"DATA!A84","v":"SULFURIC ACID  [S.G. 1.84]"}]
[null,null,null,null,null,null,null,null,null,null,null,null,null,null,null,null,{"$f":"DATA!A85","v":"TERPINENE [S.G. 0.850]"}]
[null,null,null,null,null,null,null,null,null,null,null,null,null,null,null,null,{"$f":"DATA!A86","v":"TOLUENE [S.G. 0.865]"}]
[null,null,null,null,null,null,null,null,null,null,null,null,null,null,null,null,{"$f":"DATA!A87","v":"TURPENTINE [S.G. 0.871]"}]
[null,null,null,null,null,null,null,null,null,null,null,null,null,null,null,null,{"$f":"DATA!A88","v":"VEGETABLE OIL  [S.G. 0.918]"}]
[null,null,null,null,null,null,null,null,null,null,null,null,null,null,null,null,{"$f":"DATA!A90","v":"WATER, PURE [S.G. 1.000]"}]
[null,null,null,null,null,null,null,null,null,null,null,null,null,null,null,null,{"$f":"DATA!A91","v":"WATER, SEA   [S.G. 1.025]"}]

{"sheet":"Cv Charts","index":5,"n_rows":418,"n_cols":8,"rows_kept":418,"cut":false,"hidden":true,"merged":[]}
["Size","Percent\nOpen","Degrees\nOpen",{"$f":"A1","v":"Size"},"60 V\nUpstream","45 V\nUpstream","30 V\nUpstream","1/16\" Slot Upstream"]
["1/2\" Tubing Port (0.37)",0,{"$f":"B2*0.9","v":0},0,0,0,0,0]
["1/2\" Tubing Port (0.37)",5,4.5,0,0,0,0,0]
["1/2\" Tubing Port (0.37)",10,9,0,0,0,0,0]
["1/2\" Tubing Port (0.37)",15,13.5,1.5466666666666668E-2,0,0,0,0]
["1/2\" Tubing Port (0.37)",20,18,6.3799999999999996E-2,0,0,0,0]
["1/2\" Tubing Port (0.37)",25,22.5,0.11020000000000001,0,0,0,0]
["1/2\" Tubing Port (0.37)",30,27,0.12373333333333335,0,0,0,0]
["1/2\" Tubing Port (0.37)",35,31.5,0.16433333333333333,0,0,0,0]
["1/2\" Tubing Port (0.37)",40,36,0.25133333333333335,0,0,0,0]
["1/2\" Tubing Port (0.37)",45,40.5,0.36733333333333335,2.7E-2,5.0000000000000001E-3,5.0000000000000001E-3,5.1999999999999998E-2]
["1/2\" Tubing Port (0.37)",50,45,0.46400000000000002,0.05,0.05,0.05,0.1]
["1/2\" Tubing Port (0.37)",55,49.5,0.56066666666666665,0.13,0.08,0.08,0.17]
["1/2\" Tubing Port (0.37)",60,54,0.69599999999999995,0.32,0.25,0.25,0.25]
["1/2\" Tubing Port (0.37)",65,58.5,0.92800000000000005,0.57999999999999996,0.39,0.39,0.39]
["1/2\" Tubing Port (0.37)",70,63,1.1986666666666668,0.9,0.6,0.6,0.53]
["1/2\" Tubing Port (0.37)",75,67.5,1.5853333333333333,1.3,0.88,0.83,0.63]
["1/2\" Tubing Port (0.37)",80,72,2.0880000000000001,1.7,1.3,1.2,0.75]
["1/2\" Tubing Port (0.37)",85,76.5,2.726,2.8,1.8,1.3,0.87]
["1/2\" Tubing Port (0.37)",90,81,3.5379999999999998,4.3,3,1.8,0.93]
["1/2\" Tubing Port (0.37)",95,85.5,4.7173333333333334,4.3,3,1.8,0.93]
["1/2\" Tubing Port (0.37)",100,90,7.25,4.3,3,1.8,0.93]
["Size","Percent\nOpen","Degrees\nOpen",{"$f":"A23","v":"Size"},"60 V\nUpstream","45 V\nUpstream","30 V\nUpstream","1/8\" Slot Upstream"]
["1/2\" Full Port",0,{"$f":"B24*0.9","v":0},0,0,0,0,0]
["1/2\" Full Port",5,4.5,0,0,0,0,0]
["1/2\" Full Port",10,9,0,0,0,0,0]
["1/2\" Full Port",15,13.5,2.52E-2,2.9743488093948015E-2,2.3277512421350618E-2,9.3585257685783636E-3,8.3205565019571853E-2]
["1/2\" Full Port",20,18,0.1056,5.9486976187896029E-2,4.6555024842701236E-2,2.8075577305735094E-2,0.16641113003914371]
["1/2\" Full Port",25,22.5,0.18,8.9230464281844044E-2,6.983253726405185E-2,7.0197344448831592E-2,0.24961669505871556]
["1/2\" Full Port",30,27,0.20400000000000001,0.1381772955844682,9.3110049685402471E-2,0.10529601667324738,0.33282226007828741]
["1/2\" Full Port",35,31.5,0.26400000000000001,0.23315479342382397,0.16063386550761496,0.16145389223231266,0.41147261010203762]
["1/2\" Full Port",40,36,0.42,0.39744824609156376,0.30744038368569815,0.30860700844407379,0.51753404898613042]
["1/2\" Full Port",45,40.5,0.61199999999999999,0.55917410470332574,0.40917741892216231,0.40558086314278835,0.69826552463471814]
["1/2\" Full Port",50,45,0.76800000000000002,0.69345862345974008,0.53858998466912822,0.50262442687538889,0.91970593065327122]
["1/2\" Full Port",55,49.5,0.92399999999999993,1.0418417897184256,0.69645477841634107,0.660258714147129,1.1046307974248679]
["1/2\" Full Port",60,54,1.1520000000000001,1.2144696621355007,0.92493659426494457,0.91925375277695431,1.2583535608736107]
["1/2\" Full Port",65,58.5,1.56,1.6749908947440022,1.1758334307862661,1.1063452523207589,1.4046546894631735]
["1/2\" Full Port",70,63,1.92,1.9151913385854882,1.4381765632626973,1.3443163241967737,1.6322531870489714]
["1/2\" Full Port",75,67.5,2.4,2.5529496055587506,1.723680310843644,1.5423682529568943,1.7779551146808483]
["1/2\" Full Port",80,72,3.48,2.8574355664247584,2.1551947729853018,1.8517090936394403,1.9599837908864008]
["1/2\" Full Port",85,76.5,4.5599999999999996,3.6484226143538958,2.7146320202521022,2.2541785800848881,2.1628661645854215]
["1/2\" Full Port",90,81,5.88,4.8410497861369057,3.2427871934007717,2.6658302008515991,2.3065642355735325]
["1/2\" Full Port",95,85.5,7.8,6.0989570372215418,4.0407731432616636,3.0923055536453026,2.4136292224609806]
["1/2\" Full Port",100,90,12,7.7912299605676543,5.5,3.2550584775213709,2.5097246719255595]
["Size","Percent\nOpen","Degrees\nOpen",{"$f":"A45","v":"Size"},"60 V\nUpstream","45 V\nUpstream","30 V\nUpstream","1/8\" Slot Upstream"]
["3/4\" Tubing Port (0.62)",0,{"$f":"B46*0.9","v":0},0,0,0,0,0]
["3/4\" Tubing Port (0.62)",5,4.5,0,0,0,0,0]
["3/4\" Tubing Port (0.62)",10,9,0,0,0,0,0]
["3/4\" Tubing Port (0.62)",15,13.5,5.3333333333333337E-2,4.5733587293254468E-2,3.5791503099068714E-2,1.4389669221766092E-2,0.10317490062426909]
["3/4\" Tubing Port (0.62)",20,18,0.22,9.1467174586508937E-2,7.1583006198137428E-2,4.3169007665298284E-2,0.20634980124853819]
["3/4\" Tubing Port (0.62)",25,22.5,0.38,0.13720076187976341,0.10737450929720613,0.10793543682452346,0.30952470187280728]
["3/4\" Tubing Port (0.62)",30,27,0.42666666666666669,0.21246140969067831,0.14316601239627486,0.16190315523678517,0.41269960249707638]
["3/4\" Tubing Port (0.62)",35,31.5,0.56666666666666665,0.35849881036847175,0.24699063160450879,0.24825150469640395,0.51022603652652665]
["3/4\" Tubing Port (0.62)",40,36,0.8666666666666667,0.6111164231903885,0.47272033395512952,0.47451413618360788,0.64174222074280174]
["3/4\" Tubing Port (0.62)",45,40.5,1.2666666666666666,0.8597861033918337,0.62915119933471675,0.62362113516835138,0.86584925054705053]
["3/4\" Tubing Port (0.62)",50,45,1.6,1.0662619794316963,0.82813596042725157,0.77283531876359801,1.1404353540100562]
["3/4\" Tubing Port (0.62)",55,49.5,1.9333333333333333,1.6019359358710512,1.070868867292966,1.0152137988726255,1.3697421888068362]
["3/4\" Tubing Port (0.62)",60,54,2.4,1.867368552499546,1.4221825073417789,1.413444570269845,1.5603584154832773]
["3/4\" Tubing Port (0.62)",65,58.5,3.2,2.5754659997583778,1.8079614831769628,1.701116459968399,1.7417718149343351]
["3/4\" Tubing Port (0.62)",70,63,4.1333333333333337,2.9447982022090469,2.2113402836727234,2.0670207800849592,2.0239939519407244]
["3/4\" Tubing Port (0.62)",75,67.5,5.5333333333333332,3.925415313507135,2.6503308459531874,2.3715454257465209,2.2046643422042518]
["3/4\" Tubing Port (0.62)",80,72,7.2,4.3935929269347085,3.3138274829422003,2.8471879023800035,2.4303799006991369]
["3/4\" Tubing Port (0.62)",85,76.5,9.4,5.6098146118305507,4.1740181943396326,3.4660249847385241,2.6819540440859222]
["3/4\" Tubing Port (0.62)",90,81,12.2,7.4435981511641067,4.9861095885730267,4.0989805168294193,2.8601396521111799]
["3/4\" Tubing Port (0.62)",95,85.5,16.266666666666666,9.3777563404318425,6.2130927850791347,4.7547290192850173,2.9929002358516161]
["3/4\" Tubing Port (0.62)",100,90,25,11.979795187368826,8.4568000000000012,5.0049779150368598,3.1120585931876938]
["Size","Percent\nOpen","Degrees\nOpen",{"$f":"A67","v":"Size"},"60 V\nUpstream","45 V\nUpstream","30 V\nUpstream","1/8\" Slot Upstream"]
["3/4\" Full Port",0,{"$f":"B68*0.9","v":0},0,0,0,0,0]
["3/4\" Full Port",5,4.5,0,0,0,0,0]
["3/4\" Full Port",10,9,0,0,0,0,0]
["3/4\" Full Port",15,13.5,8.8200000000000001E-2,6.6922848211383029E-2,5.2374402948038891E-2,2.1056682979301317E-2,0.12480834752935778]
["3/4\" Full Port",20,18,0.36960000000000004,0.13384569642276606,0.10474880589607778,6.3170048937903955E-2,0.24961669505871556]
["3/4\" Full Port",25,22.5,0.63,0.20076854463414909,0.15712320884411665,0.15794402500987109,0.37442504258807335]
["3/4\" Full Port",30,27,0.71400000000000008,0.31089891506505346,0.20949761179215556,0.23691603751480661,0.49923339011743112]
["3/4\" Full Port",35,31.5,0.92399999999999993,0.52459828520360396,0.36142619739213366,0.36327125752270351,0.61720891515305643]
["3/4\" Full Port",40,36,1.47,0.89425855370601848,0.69174086329282081,0.69436576899916602,0.77630107347919564]
["3/4\" Full Port",45,40.5,2.1419999999999999,1.2581417355824829,0.92064919257486522,0.9125569420712738,1.0473982869520773]
["3/4\" Full Port",50,45,2.6880000000000002,1.5602819027844153,1.2118274655055385,1.1309049604696251,1.3795588959799068]
["3/4\" Full Port",55,49.5,3.234,2.3441440268664575,1.5670232514367675,1.4855821068310402,1.6569461961373018]
["3/4\" Full Port",60,54,4.032,2.7325567398048767,2.0811073370961255,2.0683209437481471,1.8875303413104161]
["3/4\" Full Port",65,58.5,5.46,3.7687295131740051,2.6456252192690988,2.4892768177217075,2.1069820341947603]
["3/4\" Full Port",70,63,6.72,4.3091805118173481,3.2358972673410689,3.0247117294427408,2.4483797805734571]
["3/4\" Full Port",75,67.5,8.4,5.7441366125071891,3.8782806993981991,3.4703285691530121,2.6669326720212729]
["3/4\" Full Port",80,72,12.18,6.4292300244557063,4.8491882392169288,4.1663454606887402,2.9399756863296012]
["3/4\" Full Port",85,76.5,15.96,8.208950882296266,6.1079220455672303,5.0719018051909988,3.244299246878132]
["3/4\" Full Port",90,81,20.58,10.892362018808038,7.2962711851517366,5.9981179519160976,3.4598463533602986]
["3/4\" Full Port",95,85.5,27.3,13.722653333748468,9.0917395723387422,6.957687495701931,3.6204438336914708]
["3/4\" Full Port",100,90,42,17.530267411277222,12.375,7.3238815744230843,3.7645870078883394]
["Size","Percent\nOpen","Degrees\nOpen",{"$f":"A89","v":"Size"},"60 V\nUpstream","45 V\nUpstream","30 V\nUpstream","3/16\" Slot Upstream"]
["1\" Tubing Port (0.87)",0,{"$f":"B90*0.9","v":0},0,0,0,0,0]
["1\" Tubing Port (0.87)",5,4.5,0,0,0,0,0]
["1\" Tubing Port (0.87)",10,9,0,0,0,0,0]
["1\" Tubing Port (0.87)",15,13.5,0.126,9.005138455323701E-2,7.0474996606881127E-2,2.8333872616947853E-2,0.21716652470108253]
["1\" Tubing Port (0.87)",20,18,0.52800000000000002,0.18010276910647402,0.14094999321376225,8.5001617850843578E-2,0.43433304940216505]
["1\" Tubing Port (0.87)",25,22.5,0.9,0.27015415365971102,0.21142498982064339,0.21252948005328254,0.65149957410324766]
["1\" Tubing Port (0.87)",30,27,1.02,0.41834558011153594,0.28189998642752451,0.31879422007992375,0.8686660988043301]
["1\" Tubing Port (0.87)",35,31.5,1.32,0.70589945256996944,0.48633509121085505,0.48881780412254983,1.0739435123663181]
["1\" Tubing Port (0.87)",40,36,2.1,1.2033143098668184,0.93080650564681977,0.93433857876527782,1.3507638678538003]
["1\" Tubing Port (0.87)",45,40.5,3.06,1.6929555193997889,1.2388255535287387,1.227936621251106,1.8224730192966143]
["1\" Tubing Port (0.87)",50,45,3.84,2.0995153283867092,1.6306350375842527,1.5217457148079274,2.4004324790050378]
["1\" Tubing Port (0.87)",55,49.5,4.62,3.1542802025515053,2.1085864871333144,1.9989992829518477,2.8830863812789049]
["1\" Tubing Port (0.87)",60,54,5.76,3.6769283490814417,2.8003380327965464,2.7831326619075067,3.2843027938801241]
["1\" Tubing Port (0.87)",65,58.5,7.8,5.071202432926941,3.5599532950484996,3.3495708859263296,3.6661487394988828]
["1\" Tubing Port (0.87)",70,63,9.6,5.7984332967014245,4.3542233629341425,4.0700521031381518,4.2601808181978154]
["1\" Tubing Port (0.87)",75,67.5,12,7.729310225789674,5.2186145091102167,4.6696741226522933,4.6404628493170144]
["1\" Tubing Port (0.87)",80,72,17.399999999999999,8.6511719209075988,6.5250676946902999,5.6062344519027691,5.1155576942135061]
["1\" Tubing Port (0.87)",85,76.5,22.8,11.045964307217854,8.2188199045152643,6.8247510690650071,5.6450806895679495]
["1\" Tubing Port (0.87)",90,81,29.4,14.656762332508096,9.8178625067401768,8.0710675160983012,6.0201326548469192]
["1\" Tubing Port (0.87)",95,85.5,39,18.465202325891941,12.233844768539013,9.3622642942165175,6.2995722706231589]
["1\" Tubing Port (0.87)",100,90,60,23.58872782861463,16.651800000000001,9.8550150465437021,6.5503813937257105]
["Size","Percent\nOpen","Degrees\nOpen",{"$f":"A111","v":"Size"},"60 V\nUpstream","45 V\nUpstream","30 V\nUpstream","3/16\" Slot Upstream"]
["1\" Full Port",0,{"$f":"B112*0.9","v":0},0,0,0,0,0]
["1\" Full Port",5,4.5,0,0,0,0,0]
["1\" Full Port",10,9,0,0,0,0,0]
["1\" Full Port",15,13.5,0.15329999999999999,0.11897395237579206,9.3110049685402471E-2,3.7434103074313455E-2,0.24961669505871556]
["1\" Full Port",20,18,0.64240000000000008,0.23794790475158412,0.18622009937080494,0.11230230922294038,0.49923339011743112]
["1\" Full Port",25,22.5,1.095,0.35692185712737617,0.2793301490562074,0.28078937779532637,0.74885008517614671]
["1\" Full Port",30,27,1.2410000000000001,0.55270918233787281,0.37244019874160988,0.42118406669298952,0.99846678023486224]
["1\" Full Port",35,31.5,1.6059999999999999,0.9326191736952959,0.64253546203045986,0.64581556892925063,1.2344178303061129]
["1\" Full Port",40,36,2.5550000000000002,1.589792984366255,1.2297615347427926,1.2344280337762952,1.5526021469583913]
["1\" Full Port",45,40.5,3.7229999999999999,2.2366964188133029,1.6367096756886492,1.6223234525711534,2.0947965739041545]
["1\" Full Port",50,45,4.6719999999999997,2.7738344938389603,2.1543599386765129,2.0104977075015555,2.7591177919598135]
["1\" Full Port",55,49.5,5.6209999999999996,4.1673671588737022,2.7858191136653643,2.641034856588516,3.3138923922746035]
["1\" Full Port",60,54,7.008,4.8578786485420027,3.6997463770597783,3.6770150111078173,3.7750606826208322]
["1\" Full Port",65,58.5,9.49,6.6999635789760088,4.7033337231450645,4.4253810092830355,4.2139640683895205]
["1\" Full Port",70,63,11.68,7.6607653543419527,5.7527062530507891,5.3772652967870949,4.8967595611469141]
["1\" Full Port",75,67.5,14.6,10.211798422235002,6.8947212433745761,6.1694730118275771,5.333865344042545]
["1\" Full Port",80,72,21.17,11.429742265699034,8.6207790919412073,7.406836374557761,5.8799513726592023]
["1\" Full Port",85,76.5,27.74,14.593690457415583,10.858528081008409,9.0167143203395526,6.488598493756264]
["1\" Full Port",90,81,35.770000000000003,19.364199144547623,12.971148773603087,10.663320803406396,6.9196927067205971]
["1\" Full Port",95,85.5,47.45,24.395828148886167,16.163092573046654,12.36922221458121,7.2408876673829417]
["1\" Full Port",100,90,73,31.164919842270617,22,13.020233910085484,7.5291740157766789]
["Size","Percent\nOpen","Degrees\nOpen",{"$f":"A133","v":"Size"},"60 V\nUpstream","45 V\nUpstream","30 V\nUpstream","3/8\" Slot Upstream"]
["1-1/2\" Tubing Port (1.37)",0,{"$f":"B134*0.9","v":0},0,0,0,0,0]
["1-1/2\" Tubing Port (1.37)",5,4.5,0,0,0,0,0]
["1-1/2\" Tubing Port (1.37)",10,9,0,0,0,0,0]
["1-1/2\" Tubing Port (1.37)",15,13.5,0.35473410000000005,0.10698330000000002,0.1632903,0.16141340000000001,0.47196500000000002]
["1-1/2\" Tubing Port (1.37)",20,18,1.5343657500000003,0.46453275000000005,0.43637925000000005,0.55837775000000001,1.2604000000000002]
["1-1/2\" Tubing Port (1.37)",25,22.5,2.6905361500000002,0.80706700000000009,0.61937700000000007,1.1120632500000003,2.1509]
["1-1/2\" Tubing Port (1.37)",30,27,2.9795787500000004,1.3232145000000002,0.97598800000000019,1.5812882500000003,3.0277000000000003]
["1-1/2\" Tubing Port (1.37)",35,31.5,3.9649512500000004,1.9801295000000001,1.7173635000000003,2.0176674999999999,4.0620500000000002]
["1-1/2\" Tubing Port (1.37)",40,36,6.2172312500000011,2.4775080000000003,2.5009692500000003,2.6276600000000001,5.3978000000000002]
["1-1/2\" Tubing Port (1.37)",45,40.5,9.1405030000000007,3.9180287500000004,3.3174207500000006,3.2470370000000002,6.8020500000000004]
["1-1/2\" Tubing Port (1.37)",50,45,11.064325500000001,5.6494690000000007,4.4435607500000005,4.6453275000000005,7.9048999999999996]
["1-1/2\" Tubing Port (1.37)",55,49.5,13.607525000000003,6.3345375000000006,6.1468475000000007,5.1145525000000012,9.2475000000000005]
["1-1/2\" Tubing Port (1.37)",60,54,17.112635750000003,7.8219807500000016,7.69529,6.3345375000000006,9.59]
["1-1/2\" Tubing Port (1.37)",65,58.5,22.391417000000001,9.6660350000000026,9.4314225000000018,7.7422125000000008,10.82985]
["1-1/2\" Tubing Port (1.37)",70,63,28.857337500000003,12.5283075,11.44909,9.8068024999999999,11.74775]
["1-1/2\" Tubing Port (1.37)",75,67.5,38.58437175000001,17.5020925,13.982905000000002,12.012160000000002,12.768400000000002]
["1-1/2\" Tubing Port (1.37)",80,72,50.896835750000008,23.555095000000005,17.220557500000002,14.311362500000001,14.385]
["1-1/2\" Tubing Port (1.37)",85,76.5,66.024649750000009,28.843260750000002,21.302815000000002,17.549015000000001,16.440000000000001]
["1-1/2\" Tubing Port (1.37)",90,81,85.868175000000008,36.599550000000008,26.088910000000006,21.818962500000001,18.015500000000003]
["1-1/2\" Tubing Port (1.37)",95,85.5,114.49090000000001,48.330175000000004,30.968850000000003,25.807375000000004,18.666250000000002]
["1-1/2\" Tubing Port (1.37)",100,90,175.95937499999999,60.530025000000009,42.230250000000005,30.968850000000003,19.4129]
["Size","Percent\nOpen","Degrees\nOpen",{"$f":"A155","v":"Size"},"60 V\nUpstream","45 V\nUpstream","30 V\nUpstream","3/8\" Slot Upstream"]
["1-1/2\" Full Port",0,{"$f":"B156*0.9","v":0},0,0,0,0,0]
["1-1/2\" Full Port",5,4.5,0,0,0,0,0]
["1-1/2\" Full Port",10,9,0,0,0,0,0]
["1-1/2\" Full Port",15,13.5,0.42525000000000002,0.12825,0.19574999999999998,0.19349999999999998,0.51674999999999993]
["1-1/2\" Full Port",20,18,1.839375,0.55687500000000001,0.52312499999999995,0.66937500000000005,1.38]
["1-1/2\" Full Port",25,22.5,3.2253750000000001,0.96750000000000003,0.74250000000000005,1.3331249999999999,2.355]
["1-1/2\" Full Port",30,27,3.5718749999999999,1.5862499999999999,1.17,1.8956249999999999,3.3149999999999999]
["1-1/2\" Full Port",35,31.5,4.7531249999999998,2.3737499999999998,2.0587499999999999,2.4187500000000002,4.4474999999999998]
["1-1/2\" Full Port",40,36,7.453125,2.97,2.9981249999999999,3.15,5.91]
["1-1/2\" Full Port",45,40.5,10.9575,4.6968750000000004,3.9768750000000002,3.8925000000000001,7.4474999999999998]
["1-1/2\" Full Port",50,45,13.26375,6.7725,5.3268750000000002,5.5687499999999996,8.6549999999999994]
["1-1/2\" Full Port",55,49.5,16.3125,7.59375,7.3687500000000004,6.1312499999999996,10.125]
["1-1/2\" Full Port",60,54,20.514375000000001,9.3768750000000001,9.2249999999999996,7.59375,10.5]
["1-1/2\" Full Port",65,58.5,26.842500000000001,11.5875,11.30625,9.28125,11.8575]
["1-1/2\" Full Port",70,63,34.59375,15.018750000000001,13.725,11.75625,12.862500000000001]
["1-1/2\" Full Port",75,67.5,46.254375000000003,20.981249999999999,16.762499999999999,14.4,13.98]
["1-1/2\" Full Port",80,72,61.014375000000001,28.237500000000001,20.643750000000001,17.15625,15.75]
["1-1/2\" Full Port",85,76.5,79.149375000000006,34.576875000000001,25.537500000000001,21.037500000000001,18]
["1-1/2\" Full Port",90,81,102.9375,43.875,31.274999999999999,26.15625,19.725000000000001]
["1-1/2\" Full Port",95,85.5,137.25,57.9375,37.125,30.9375,20.4375]
["1-1/2\" Full Port",100,90,210.9375,72.5625,50.625,37.125,21.254999999999999]
["Size","Percent\nOpen","Degrees\nOpen",{"$f":"A177","v":"Size"},"60 V\nUpstream","45 V\nUpstream","30 V\nUpstream","3/8\" Slot Upstream"]
["2\" Tubing Port (1.87)",0,{"$f":"B178*0.9","v":0},0,0,0,0,0]
["2\" Tubing Port (1.87)",5,4.5,0,0,0,0,0]
["2\" Tubing Port (1.87)",10,9,0,0,0,0,0]
["2\" Tubing Port (1.87)",15,13.5,0.66091410000000006,0.19932330000000004,0.30423030000000001,0.30073340000000004,0.64421499999999998]
["2\" Tubing Port (1.87)",20,18,2.8587157500000004,0.86548275000000008,0.81302925000000015,1.0403277500000001,1.7204000000000002]
["2\" Tubing Port (1.87)",25,22.5,5.0128061500000012,1.5036670000000003,1.1539770000000003,2.0719132500000006,2.9359000000000002]
["2\" Tubing Port (1.87)",30,27,5.5513287500000006,2.4653145000000003,1.8183880000000003,2.9461382500000006,4.1326999999999998]
["2\" Tubing Port (1.87)",35,31.5,7.3872012500000004,3.6892295000000002,3.1996635000000007,3.7591675000000007,5.5445500000000001]
["2\" Tubing Port (1.87)",40,36,11.583481250000002,4.615908000000001,4.6596192500000004,4.8956600000000003,7.3677999999999999]
["2\" Tubing Port (1.87)",45,40.5,17.029903000000004,7.2997787500000006,6.1807707500000015,6.0496370000000006,9.2845499999999994]
["2\" Tubing Port (1.87)",50,45,20.614225500000003,10.525669000000001,8.2789107500000014,8.6548275000000015,10.789899999999999]
["2\" Tubing Port (1.87)",55,49.5,25.370009500000005,11.802037500000003,11.452347500000002,9.5290525000000024,12.6225]
["2\" Tubing Port (1.87)",60,54,31.882985750000003,14.573330750000004,14.337290000000001,11.802037500000003,13.09]
["2\" Tubing Port (1.87)",65,58.5,41.718017000000003,18.009035000000004,17.571922500000003,14.424712500000002,14.782350000000001]
["2\" Tubing Port (1.87)",70,63,53.764837500000006,23.341807500000002,21.331090000000003,18.271302500000001,16.035250000000001]
["2\" Tubing Port (1.87)",75,67.5,71.887521750000019,32.6085925,26.051905000000005,22.380160000000004,17.4284]
["2\" Tubing Port (1.87)",80,72,94.827185750000012,43.886095000000012,32.084057500000007,26.663862500000004,19.635000000000002]
["2\" Tubing Port (1.87)",85,76.5,123.01219975000002,53.738610750000007,39.689815000000003,32.696015000000003,22.44]
["2\" Tubing Port (1.87)",90,81,159.98317500000002,68.189550000000011,48.606910000000006,40.651462500000008,24.590500000000002]
["2\" Tubing Port (1.87)",95,85.5,213.31090000000003,90.045175000000015,57.698850000000007,48.082375000000006,25.478750000000002]
["2\" Tubing Port (1.87)",100,90,327.83437500000008,112.77502500000001,78.680250000000015,57.698850000000007,26.497900000000001]
["Size","Percent\nOpen","Degrees\nOpen",{"$f":"A199","v":"Size"},"60 V\nUpstream","45 V\nUpstream","30 V\nUpstream","3/8\" Slot Upstream"]
["2\" Full Port",0,{"$f":"B200*0.9","v":0},0,0,0,0,0]
["2\" Full Port",5,4.5,0,0,0,0,0]
["2\" Full Port",10,9,0,0,0,0,0]
["2\" Full Port",15,13.5,0.75600000000000001,0.22800000000000001,0.34799999999999998,0.34399999999999997,0.68899999999999995]
["2\" Full Port",20,18,3.27,0.99,0.93,1.19,1.84]
["2\" Full Port",25,22.5,5.734,1.72,1.32,2.37,3.14]
["2\" Full Port",30,27,6.35,2.82,2.08,3.37,4.42]
["2\" Full Port",35,31.5,8.4499999999999993,4.22,3.66,4.3,5.93]
["2\" Full Port",40,36,13.25,5.28,5.33,5.6,7.88]
["2\" Full Port",45,40.5,19.48,8.35,7.07,6.92,9.93]
["2\" Full Port",50,45,23.58,12.04,9.4700000000000006,9.9,11.54]
["2\" Full Port",55,49.5,29.02,13.5,13.1,10.9,13.5]
["2\" Full Port",60,54,36.47,16.670000000000002,16.399999999999999,13.5,14]
["2\" Full Port",65,58.5,47.72,20.6,20.100000000000001,16.5,15.81]
["2\" Full Port",70,63,61.5,26.7,24.4,20.9,17.149999999999999]
["2\" Full Port",75,67.5,82.23,37.299999999999997,29.8,25.6,18.64]
["2\" Full Port",80,72,108.47,50.2,36.700000000000003,30.5,21]
["2\" Full Port",85,76.5,140.71,61.47,45.4,37.4,24]
["2\" Full Port",90,81,183,78,55.6,46.5,26.3]
["2\" Full Port",95,85.5,244,103,66,55,27.25]
["2\" Full Port",100,90,375,129,90,66,28.34]
["Size","Percent\nOpen","Degrees\nOpen",{"$f":"A221","v":"Size"},"60 V\nUpstream","45 V\nUpstream","30 V\nUpstream","3/8\" Slot Upstream"]
["2-1/2\" Tubing Port (2.37)",0,{"$f":"B222*0.9","v":0},0,0,0,0,0]
["2-1/2\" Tubing Port (2.37)",5,4.5,0,0,0,0,0]
["2-1/2\" Tubing Port (2.37)",10,9,0,0,0,0,0]
["2-1/2\" Tubing Port (2.37)",15,13.5,1.1812499999999999,0.35625000000000001,0.54374999999999996,0.53749999999999998,0.86124999999999996]
["2-1/2\" Tubing Port (2.37)",20,18,5.109375,1.546875,1.453125,1.859375,2.2999999999999998]
["2-1/2\" Tubing Port (2.37)",25,22.5,8.9593749999999996,2.6875,2.0625,3.703125,3.9249999999999998]
["2-1/2\" Tubing Port (2.37)",30,27,9.921875,4.40625,3.25,5.265625,5.5250000000000004]
["2-1/2\" Tubing Port (2.37)",35,31.5,13.203125,6.59375,5.71875,6.71875,7.4124999999999996]
["2-1/2\" Tubing Port (2.37)",40,36,20.703125,8.25,8.328125,8.75,9.85]
["2-1/2\" Tubing Port (2.37)",45,40.5,30.4375,13.046875,11.046875,10.8125,12.4125]
["2-1/2\" Tubing Port (2.37)",50,45,36.84375,18.8125,14.796875,15.46875,14.425000000000001]
["2-1/2\" Tubing Port (2.37)",55,49.5,45.34375,21.09375,20.46875,17.03125,16.875]
["2-1/2\" Tubing Port (2.37)",60,54,56.984375,26.046875,25.625,21.09375,17.5]
["2-1/2\" Tubing Port (2.37)",65,58.5,74.5625,32.1875,31.40625,25.78125,19.762499999999999]
["2-1/2\" Tubing Port (2.37)",70,63,96.09375,41.71875,38.125,32.65625,21.4375]
["2-1/2\" Tubing Port (2.37)",75,67.5,128.484375,58.28125,46.5625,40,23.3]
["2-1/2\" Tubing Port (2.37)",80,72,169.484375,78.4375,57.34375,47.65625,26.25]
["2-1/2\" Tubing Port (2.37)",85,76.5,219.859375,96.046875,70.9375,58.4375,30]
["2-1/2\" Tubing Port (2.37)",90,81,285.9375,121.875,86.875,72.65625,32.875]
["2-1/2\" Tubing Port (2.37)",95,85.5,381.25,160.9375,103.125,85.9375,34.0625]
["2-1/2\" Tubing Port (2.37)",100,90,585.9375,201.5625,140.625,103.125,35.424999999999997]
["Size","Percent\nOpen","Degrees\nOpen",{"$f":"A243","v":"Size"},"60 V\nUpstream","45 V\nUpstream","30 V\nUpstream","3/8\" Slot Upstream"]
["2-1/2\" Full Port",0,{"$f":"B244*0.9","v":0},0,0,0,0,0]
["2-1/2\" Full Port",5,4.5,0,0,0,0,0]
["2-1/2\" Full Port",10,9,0,0,0,0,0]
["2-1/2\" Full Port",15,13.5,1.25,0.35625000000000001,0.54374999999999996,0.53749999999999998,0.86124999999999996]
["2-1/2\" Full Port",20,18,5.109375,1.546875,1.453125,1.859375,2.2999999999999998]
["2-1/2\" Full Port",25,22.5,8.953125,2.6875,2.0625,3.703125,3.9249999999999998]
["2-1/2\" Full Port",30,27,9.921875,4.40625,3.25,5.265625,5.5250000000000004]
["2-1/2\" Full Port",35,31.5,13.203125,6.59375,5.71875,6.71875,7.4124999999999996]
["2-1/2\" Full Port",40,36,20.703125,8.25,8.328125,8.75,9.85]
["2-1/2\" Full Port",45,40.5,30.4375,13.046875,11.046875,10.8125,12.4125]
["2-1/2\" Full Port",50,45,36.84375,18.8125,14.796875,15.46875,14.425000000000001]
["2-1/2\" Full Port",55,49.5,45.3125,21.09375,20.46875,17.03125,16.875]
["2-1/2\" Full Port",60,54,56.984375,26.046875,25.625,21.09375,17.5]
["2-1/2\" Full Port",65,58.5,74.5625,32.1875,31.40625,25.78125,19.762499999999999]
["2-1/2\" Full Port",70,63,96.09375,41.71875,38.125,32.65625,21.4375]
["2-1/2\" Full Port",75,67.5,128.484375,58.28125,46.5625,40,23.3]
["2-1/2\" Full Port",80,72,169.484375,78.4375,57.34375,47.65625,26.25]
["2-1/2\" Full Port",85,76.5,219.84375,96.046875,70.9375,58.4375,30]
["2-1/2\" Full Port",90,81,285.9375,121.875,86.875,72.65625,32.875]
["2-1/2\" Full Port",95,85.5,381.25,160.9375,103.125,85.9375,34.0625]
["2-1/2\" Full Port",100,90,585.9375,201.5625,140.625,103.125,47.233333333333327]
["Size","Percent\nOpen","Degrees\nOpen",{"$f":"A265","v":"Size"},"60 V\nUpstream","45 V\nUpstream","30 V\nUpstream","5/8\" Slot Upstream"]
["3\" Tubing Port (2.87)",0,{"$f":"B266*0.9","v":0},0,0,0,0,0]
["3\" Tubing Port (2.87)",5,4.5,0,0,0,0,0]
["3\" Tubing Port (2.87)",10,9,0,0,0,0,0]
["3\" Tubing Port (2.87)",15,13.5,4.7210334393714319,1.3729421608820949,0.70385089461525518,0.61399655299671152,3.1538508923397193]
["3\" Tubing Port (2.87)",20,18,8.4986668002002297,2.8674007553591685,2.0551608393572089,2.2606947795251116,4.6548815319344632]
["3\" Tubing Port (2.87)",25,22.5,11.975564623996714,5.096695033922293,3.7107625269659303,4.0822732150396481,6.3465119277289448]
["3\" Tubing Port (2.87)",30,27,17.344781880247915,9.3319730277293704,5.7073544787198225,5.9826793798237885,8.8769607238377173]
["3\" Tubing Port (2.87)",35,31.5,24.428972477996567,14.237139025509819,7.7744958594633262,8.7554230687778656,11.428210655002454]
["3\" Tubing Port (2.87)",40,36,31.646234699624589,16.996833813581773,9.4904958941437201,12.414302016482127,14.207122255488201]
["3\" Tubing Port (2.87)",45,40.5,42.455726470284915,20.651686183489829,12.830158346919337,16.1848906567363,17.907903862170489]
["3\" Tubing Port (2.87)",50,45,51.69158601459656,26.461084164524234,18.023427214570017,20.282358548333434,22.185863392585549]
["3\" Tubing Port (2.87)",55,49.5,68.481778916256758,34.618848213470564,24.140794935913636,23.098094436343878,27.034812458992047]
["3\" Tubing Port (2.87)",60,54,90.124099532201555,42.259205770145556,32.00414600368277,29.571048732765682,30.328608546677856]
["3\" Tubing Port (2.87)",65,58.5,116.99235152000324,60.323963749562566,40.524479722877444,36.416719973680799,34.365894622268577]
["3\" Tubing Port (2.87)",70,63,157.52124349971271,76.894492477082807,52.906210331872039,43.688431113528395,40.280825406993912]
["3\" Tubing Port (2.87)",75,67.5,198.94284947215641,94.811391550016936,70.338014911777947,51.967146440075517,45.080871044255609]
["3\" Tubing Port (2.87)",80,72,241.61573333333334,115.03842674542516,90.004453922589818,60.666695435582056,48.545301964478313]
["3\" Tubing Port (2.87)",85,76.5,290.12192222222222,142.87678100854399,107.81359463696417,71.729862549347857,52.808229360115526]
["3\" Tubing Port (2.87)",90,81,377.06697777777777,185.68708592541154,124.14922342586908,86.265490433365287,58.135337290371631]
["3\" Tubing Port (2.87)",95,85.5,502.45089999999999,225.44700999587428,146.51712608017479,95.613137254215502,63.460576024544828]
["3\" Tubing Port (2.87)",100,90,772.43817777777781,287.26137647924475,170.22926666666666,112.91992623064345,69.678091804895615]
["Size","Percent\nOpen","Degrees\nOpen",{"$f":"A287","v":"Size"},"60 V\nUpstream","45 V\nUpstream","30 V\nUpstream","5/8\" Slot Upstream"]
["3\" Full Port",0,{"$f":"B288*0.9","v":0},0,0,0,0,0]
["3\" Full Port",5,4.5,0,0,0,0,0]
["3\" Full Port",10,9,0,0,0,0,0]
["3\" Full Port",15,13.5,5.1584092260854071,1.5001371205112184,0.76905851127697278,0.67087969709118767,3.2967082498324589]
["3\" Full Port",20,18,9.2860179438626265,3.1330484524800006,2.2455593189446126,2.4701347613454097,4.8657298243217388]
["3\" Full Port",25,22.5,13.085029758279259,5.5688736424262331,4.0545426972153811,4.4604716501786879,6.6339845934448896]
["3\" Full Port",30,27,18.951673192855473,10.196525057917947,6.2361070680084012,6.5369391905224168,9.2790530214331532]
["3\" Full Port",35,31.5,26.692172091681229,15.556125633380079,8.4947568545411425,9.5665611600238911,11.945864796169813]
["3\" Full Port",40,36,34.578070912190427,18.571489798617922,10.369734129016193,13.564413571651853,14.850650441276864]
["3\" Full Port",45,40.5,46.388998073615589,22.564942593865226,14.018796528096011,17.684324917217243,18.719063270561485]
["3\" Full Port",50,45,56.480505303132134,28.912546890300732,19.693190997964059,22.16139894074238,23.19079797134378]
["3\" Full Port",55,49.5,74.826210133218908,37.826079462083442,26.377296607124372,25.237996081911266,28.259385845636285]
["3\" Full Port",60,54,98.473563572437939,46.174270894548918,34.96914057875474,32.310631256284665,31.702378271788699]
["3\" Full Port",65,58.5,127.83099997329447,65.912621707931763,44.278832753329169,39.790513392553898,35.922537932684925]
["3\" Full Port",70,63,172.11465375291851,84.018311779157841,57.807657369501676,47.735905501069041,42.105392411491891]
["3\" Full Port",75,67.5,217.37372618939258,103.59510543410173,76.854415399725809,56.781594769959533,47.122861718734086]
["3\" Full Port",80,72,264,125.69605564093608,98.342833505725253,66.287105454751,50.744218081336214]
["3\" Full Port",85,76.5,317,156.11346854725636,117.8018856284133,78.37520947736779,55.200239749249683]
["3\" Full Port",90,81,412,202.88989466045524,135.65091367296213,94.257477194124931,60.768645251259535]
["3\" Full Port",95,85.5,549,246.33334020843625,160.09107002896394,104.4711281292646,66.33509688976811]
["3\" Full Port",100,90,844,313.87444163619841,186,123.38128860078319,72.834242304768935]
["Size","Percent\nOpen","Degrees\nOpen",{"$f":"A309","v":"Size"},"60 V\nUpstream","45 V\nUpstream","30 V\nUpstream","3/4\" Slot Upstream"]
["4\" Tubing Port (3.83)",0,{"$f":"B310*0.9","v":0},0,0,0,0,0]
["4\" Tubing Port (3.83)",5,4.5,0,0,0,0,0]
["4\" Tubing Port (3.83)",10,9,0,0,0,0,0]
["4\" Tubing Port (3.83)",15,13.5,8.4075765662804702,2.4450401563407791,1.2534713773411985,1.0934519098512137,5.0505570387433281]
["4\" Tubing Port (3.83)",20,18,15.135074290747387,5.1064860493982094,3.6599872326296254,4.0260177556332977,7.4542980908609042]
["4\" Tubing Port (3.83)",25,22.5,21.326999224580291,9.0765833970429082,6.6084090412425223,7.2700236210340172,10.163264397157571]
["4\" Tubing Port (3.83)",30,27,30.888910988741962,16.619089602454732,10.164092329989826,10.654411921317141,14.215509228835591]
["4\" Tubing Port (3.83)",35,31.5,43.50497813285142,25.354583478165448,13.845415424842063,15.592325444474939,18.301064867732155]
["4\" Tubing Port (3.83)",40,36,56.358029378203348,30.269258522994047,16.90139921834729,22.108336249022653,22.751196476036153]
["4\" Tubing Port (3.83)",45,40.5,75.608397093562189,36.778098490572177,22.848924932331954,28.823288197574222,28.677604930500195]
["4\" Tubing Port (3.83)",50,45,92.056320471234997,47.123917675459154,32.097494381114998,36.120371657983988,35.528302492098675]
["4\" Tubing Port (3.83)",55,49.5,121.95757709146388,61.651886335706202,42.991769577805186,41.134848969549793,43.293379115514789]
["4\" Tubing Port (3.83)",60,54,160.49987296530387,75.25841803611651,56.995425137299485,52.662379870590456,48.568043512380292]
["4\" Tubing Port (3.83)",65,58.5,208.34890616758435,107.42951739683113,72.169085530590024,64.853673544892658,55.033328112873299]
["4\" Tubing Port (3.83)",70,63,280.52584938179848,136.93957929525428,94.219416131942566,77.803691578292401,64.505461174405582]
["4\" Tubing Port (3.83)",75,67.5,354.29260578884231,168.84736023358832,125.26330378411532,92.547059502339934,72.192224153100625]
["4\" Tubing Port (3.83)",80,72,430.28773333333334,204.86920784348081,160.28679893468146,108.03988013391077,77.740142100607088]
["4\" Tubing Port (3.83)",85,76.5,516.6712555555556,254.4458731969832,192.0026755660702,127.74201225584004,84.566767295850511]
["4\" Tubing Port (3.83)",90,81,671.50964444444446,330.68573064275023,221.09440973081269,153.62816746809992,93.097564524929609]
["4\" Tubing Port (3.83)",95,85.5,894.80290000000002,401.49323713150341,260.92887746087433,170.27517015726326,101.62536843512473]
["4\" Tubing Port (3.83)",100,90,1375.6168444444445,511.5769774352479,303.15726666666666,201.09642048400318,111.58205921090601]
["Size","Percent\nOpen","Degrees\nOpen",{"$f":"A331","v":"Size"},"60 V\nUpstream","45 V\nUpstream","30 V\nUpstream","3/4\" Slot Upstream"]
["4\" Full Port",0,{"$f":"B332*0.9","v":0},0,0,0,0,0]
["4\" Full Port",5,4.5,0,0,0,0,0]
["4\" Full Port",10,9,0,0,0,0,0]
["4\" Full Port",15,13.5,3.2,2.6669104364643883,1.3672151311590628,1.1926750170510003,5.2747331997319336]
["4\" Full Port",20,18,13.155555555555557,5.5698639155200009,3.9921054559015334,4.3913506868362839,7.7851677189147823]
["4\" Full Port",25,22.5,23.111111111111111,9.9002198087577469,7.2080759061606772,7.9297273780954454,10.614375349511823]
["4\" Full Port",30,27,24.888888888888889,18.127155658520795,11.086412565348269,11.621225227595408,14.846484834293046]
["4\" Full Port",35,31.5,33.777777777777779,27.655334459342363,15.101789963628697,17.007219840042474,19.113383673871702]
["4\" Full Port",40,36,53.333333333333336,33.015981864209635,18.435082896028788,24.11451301626996,23.761040706042984]
["4\" Full Port",45,40.5,78.222222222222229,40.115453500204843,24.922304938837353,31.438799852830655,29.950501232898375]
["4\" Full Port",50,45,94.222222222222229,51.400083360534637,35.010117329713886,39.398042561319784,37.105276754150047]
["4\" Full Port",55,49.5,115.55555555555556,67.246363488148347,46.892971745998885,44.867548590064473,45.215017353018048]
["4\" Full Port",60,54,145.77777777777777,82.087592701420306,62.167361028897318,57.441122233394964,50.723805234861921]
["4\" Full Port",65,58.5,190.22222222222223,117.17799414743425,78.71792489480741,70.738690475651367,57.476060692295881]
["4\" Full Port",70,63,245.33333333333334,149.36588760739173,102.76916865689186,84.863832001900519,67.368627858387029]
["4\" Full Port",75,67.5,328.88888888888891,184.16907632729195,136.63007182173476,100.94505736881695,75.396578749974537]
["4\" Full Port",80,72,433.77777777777777,223.45965447277524,174.83170401017821,117.84374303066845,81.190748930137929]
["4\" Full Port",85,76.5,563.55555555555554,277.53505519512242,209.42557445051253,139.33370573754274,88.320383598799481]
["4\" Full Port",90,81,732.44444444444446,360.69314606303152,241.15717986304378,167.56884834511098,97.229832402015248]
["4\" Full Port",95,85.5,976,437.92593814833111,284.60634671815814,185.72645000758152,106.13615502362897]
["4\" Full Port",100,90,1500.4444444444443,557.99900735324161,330.66666666666669,219.344513068059,116.5347876876303]
["Size","Percent\nOpen","Degrees\nOpen",{"$f":"A353","v":"Size"},"60 V\nUpstream","45 V\nUpstream","30 V\nUpstream","1\" Slot Upstream"]
["6\" Tubing Port (5.78)",0,{"$f":"B354*0.9","v":0},0,0,0,0,0]
["6\" Tubing Port (5.78)",5,4.5,0,0,0,0,0]
["6\" Tubing Port (5.78)",10,9,0,0,0,0,0]
["6\" Tubing Port (5.78)",15,13.5,19.148244309861305,5.5685756640985549,2.8547793742384022,2.4903352524779154,10.162652631483526]
["6\" Tubing Port (5.78)",20,18,34.470111319526687,11.630015102203652,8.3356159945588004,9.1692500178813319,14.999423138442481]
["6\" Tubing Port (5.78)",25,22.5,48.57221201961076,20.671906466181397,15.05064269396115,16.557469008647743,20.45036317339278]
["6\" Tubing Port (5.78)",30,27,70.349453188465873,37.849954193882887,23.148706596761322,24.265408805849905,28.6042274474046]
["6\" Tubing Port (5.78)",35,31.5,99.082529123080363,57.745029734468346,31.532914988805814,35.511500206504692,36.825119211659484]
["6\" Tubing Port (5.78)",40,36,128.35533602920253,68.938195532016337,38.492913963980513,50.35170604079709,45.779605093642814]
["6\" Tubing Port (5.78)",45,40.5,172.1980225825088,83.762069794765239,52.038395769915873,65.645000062706728,57.704632375384207]
["6\" Tubing Port (5.78)",50,45,209.65814592990665,107.32465905888034,73.102000237375847,82.26409781909976,71.489499879662432]
["6\" Tubing Port (5.78)",55,49.5,277.75821762384788,140.41208812234095,97.913697329939325,93.684563144769385,87.114266766814794]
["6\" Tubing Port (5.78)",60,54,365.53824458371514,171.40094575038313,129.80700401236334,119.93849925138453,97.727864752500636]
["6\" Tubing Port (5.78)",65,58.5,474.51435327864573,244.67058122969641,164.36499512848027,147.70415418042197,110.73721026715673]
["6\" Tubing Port (5.78)",70,63,638.89724427100043,311.87970747142413,214.58459338480668,177.19780281576834,129.79688967382566]
["6\" Tubing Port (5.78)",75,67.5,806.90093266952272,384.54963559829383,285.28700571557778,210.77580341252403,145.26407505828428]
["6\" Tubing Port (5.78)",80,72,979.97973333333346,466.5893450305166,365.05296876585243,246.0606815416115,156.42750960539914]
["6\" Tubing Port (5.78)",85,76.5,1176.718088888889,579.50013362379559,437.2858350920315,290.93226092263274,170.16393906702035]
["6\" Tubing Port (5.78)",90,81,1529.3623111111112,753.13630630826151,503.54222048353211,349.88794456580041,187.32947709454942]
["6\" Tubing Port (5.78)",95,85.5,2037.9124000000002,914.40030700216926,594.26516710618216,387.80147077708045,204.48899201219183]
["6\" Tubing Port (5.78)",100,90,3132.9655111111115,1165.1158773287525,690.44026666666673,457.99682689893399,224.52369094483439]
["Size","Percent\nOpen","Degrees\nOpen",{"$f":"A375","v":"Size"},"60 V\nUpstream","45 V\nUpstream","30 V\nUpstream","1\" Slot Upstream"]
["6\" Full Port",0,{"$f":"B376*0.9","v":0},0,0,0,0,0]
["6\" Full Port",5,4.5,0,0,0,0,0]
["6\" Full Port",10,9,0,0,0,0,0]
["6\" Full Port",15,13.5,20.633636904341628,6.0005484820448736,3.0762340451078911,2.6835187883647507,10.549466399463869]
["6\" Full Port",20,18,37.144071775450506,12.532193809920003,8.9822372757784503,9.8805390453816386,15.570335437829565]
["6\" Full Port",25,22.5,52.340119033117034,22.275494569704932,16.218170788861524,17.841886600714751,21.228750699023646]
["6\" Full Port",30,27,75.806692771421893,40.786100231671789,24.944428272033605,26.147756762089667,29.692969668586091]
["6\" Full Port",35,31.5,106.76868836672492,62.224502533520315,33.97902741816457,38.266244640095564,38.226767347743404]
["6\" Full Port",40,36,138.31228364876171,74.285959194471687,41.478936516064771,54.257654286607412,47.522081412085967]
["6\" Full Port",45,40.5,185.55599229446236,90.259770375460903,56.075186112384046,70.737299668868971,59.901002465796751]
["6\" Full Port",50,45,225.92202121252853,115.65018756120293,78.772763991856237,88.645595762969521,74.210553508300094]
["6\" Full Port",55,49.5,299.30484053287563,151.30431784833377,105.50918642849749,100.95198432764506,90.43003470603611]
["6\" Full Port",60,54,393.89425428975176,184.69708357819567,139.87656231501896,129.24252502513866,101.44761046972384]
["6\" Full Port",65,58.5,511.32399989317787,263.65048683172705,177.11533101331668,159.16205357021559,114.95212138459176]
["6\" Full Port",70,63,688.45861501167406,336.07324711663136,231.2306294780067,190.94362200427616,134.73725571677406]
["6\" Full Port",75,67.5,869.49490475757034,414.3804217364069,307.41766159890324,227.12637907983813,150.79315749994905]
["6\" Full Port",80,72,1056,502.78422256374432,393.37133402290101,265.148421819004,162.38149786027589]
["6\" Full Port",85,76.5,1268,624.45387418902544,471.20754251365321,313.50083790947116,176.64076719759899]
["6\" Full Port",90,81,1648,811.55957864182096,542.60365469184853,377.02990877649972,194.45966480403052]
["6\" Full Port",95,85.5,2196,985.33336083374502,640.36428011585576,417.8845125170584,212.27231004725795]
["6\" Full Port",100,90,3376,1255.4977665447936,744,493.52515440313277,233.0695753752606]
["Size","Percent\nOpen","Degrees\nOpen","Size","60 V\nUpstream","45 V\nUpstream","30 V\nUpstream"]
["8\" Full Port",0,0,0,0,0,0]
["8\" Full Port",5,4.5,0,0,0,0]
["8\" Full Port",10,9,0,0,0,0]
["8\" Full Port",15,13.5,36.68,10.67,5.47,4.7699999999999996]
["8\" Full Port",20,18,66.03,22.28,15.97,17.57]
["8\" Full Port",25,22.5,93.05,39.6,28.83,31.72]
["8\" Full Port",30,27,134.77000000000001,72.510000000000005,44.35,46.48]
["8\" Full Port",35,31.5,189.81,110.62,60.41,68.03]
["8\" Full Port",40,36,245.89,132.06,73.739999999999995,96.46]
["8\" Full Port",45,40.5,329.88,160.46,99.69,125.76]
["8\" Full Port",50,45,401.64,205.6,140.04,157.59]
["8\" Full Port",55,49.5,532.1,268.99,187.57,179.47]
["8\" Full Port",60,54,700.26,328.35,248.67,229.76]
["8\" Full Port",65,58.5,909.02,468.71,314.87,282.95]
["8\" Full Port",70,63,1223.93,597.46,411.08,339.46]
["8\" Full Port",75,67.5,1545.77,736.68,546.52,403.78]
["8\" Full Port",80,72,1877.33,893.84,699.33,471.37]
["8\" Full Port",85,76.5,2254.2199999999998,1110.1400000000001,837.7,557.33000000000004]
["8\" Full Port",90,81,2929.78,1442.77,964.63,670.28]
["8\" Full Port",95,85.5,3904,1751.7,1138.43,742.91]
["8\" Full Port",100,90,6001.78,2232,1322.67,877.38]

{"sheet":"DATA","index":6,"n_rows":113,"n_cols":13,"rows_kept":113,"cut":false,"hidden":true,"merged":[[0,11,0,12]]}
["Compound"," Pc Critical\nPressure (psia)","Specific\ngravity","Fluid Type",null,"Compound"," Pc Critical\nPressure (psia)","Gas Property\nFactor - SLg","Specific\ngravity","Fluid Type",null,"Saturated\nSteam"]
["ACETIC ACID [S.G. 1.052]",840,1.052,"LIQUID",null,"ACETYLENE [S.G. 0.903]",911,-0.5,0.9,"GAS",null,"PSI","°F"]
["ACETONE [S.G. 0.787]",691,0.78700000000000003,"LIQUID",null,"AIR [S.G. 1.0000]",547,0,1,"GAS",null,0.11599999999999999,38.840000000000003]
["ACETYLENE, LIQUID [S.G. 0.900]",911,0.9,"LIQUID",null,"AMMONIA [S.G. 0.589]",1638,1.5,0.59,"GAS",null,0.28999999999999998,63.5]
["ALCOHOL [S.G. 0.802]",956,0.80200000000000005,"LIQUID",null,"ARGON [S.G. 1.374]",705,null,1.38,"GAS",null,0.72499999999999998,91.22]
["ALCOHOL, ETHYL (ETHANOL) [S.G. 0.787]",914,0.78700000000000003,"LIQUID",null,"CARBON DIOXIDE [S.G. 1.531]",1072,-3,1.5188999999999999,"GAS",null,1.45,114.44]
["ALCOHOL, METHYL (METHANOL) [S.G. 0.791]",1168,0.79100000000000004,"LIQUID",null,"CARBON MONOXIDE [S.G. 0.969]",514,0,0.9667,"GAS",null,2.9,140.18]
["ALCOHOL, PROPYL [S.G. 0.802]",750,0.80200000000000005,"LIQUID",null,"ETHANE [S.G. 2.487]",717,-2,1.0378000000000001,"GAS",null,4.0599999999999996,153.5]
["AMMONIA (AQUA) [S.G. 0.826]",1636,0.82599999999999996,"LIQUID",null,"ETHYLENE [S.G. 1.047]",731,-1.5,0.97840000000000005,"GAS",null,5.0750000000000002,162.86000000000001]
["ANILINE [S.G. 1.022]",824,1.022,"LIQUID",null,"HELIUM [S.G. 0.144]",33.200000000000003,-9,0.13800000000000001,"GAS",null,6.5250000000000004,173.66]
["BENZENE [S.G. 0.876]",701,0.876,"LIQUID",null,"HYDROGEN [S.G. 0.065]",188,-9,6.9599999999999995E-2,"GAS",null,7.9749999999999996,182.66]
["BENZOL  [S.G. 0.877]",735,0.877,"LIQUID",null,"METHANE [S.G. 0.550]",673,2,0.55369999999999997,"GAS",null,9.4250000000000007,190.4]
["BROMINE [S.G. 3.12]",1494,3.12,"LIQUID",null,"NITROGEN [S.G. 0.969]",492,0,0.96689999999999998,"GAS",null,10.875,197.24]
["BUTANE [S.G. 0.601]",529,0.60099999999999998,"LIQUID",null,"OXYGEN [S.G. 1.099]",730,-0.5,1.1044,"GAS",null,12.324999999999999,203.36]
["CARBON DISULFIDE [S.G. 1.265]",1116,1.2649999999999999,"LIQUID",null,"PROPANE [S.G. 1.531]",617,-4.5,1.5219,"GAS",null,13.775,208.76]
["CARBON TETRACHLORIDE [S.G. 1.589]",661,1.589,"LIQUID",null,null,null,null,null,null,null,14.5,211.28]
["CARENE [0.860]",428,0.86,"LIQUID",null,null,null,null,null,null,null,14.692849999999998,212]
["CHLORINE [S.G. 1.564]",1118,1.5640000000000001,"LIQUID",null,null,null,null,null,null,null,15.95,216.14]
["CHLOROFORM [S.G. 1.469]",787,1.4690000000000001,"LIQUID",null,null,null,null,null,null,null,18.850000000000001,224.78]
["COCONUT OIL [S.G. 0.925]",91.3,0.92500000000000004,"LIQUID",null,null,null,null,null,null,null,21.75,232.52]
["CRESOL [S.G. 1.027]",668,1.0269999999999999,"LIQUID",null,null,null,null,null,null,null,24.65,239.36]
["CRUDE OIL, CALIFORNIA [S.G. 0.918]",210,0.91800000000000004,"LIQUID",null,null,null,null,null,null,null,27.55,245.48]
["CRUDE OIL, MEXICAN [S.G. 0.976]",210,0.97599999999999998,"LIQUID",null,null,null,null,null,null,null,31.9,253.94]
["CRUDE OIL, TEXAS [S.G. 0.876]",210,0.876,"LIQUID",null,null,null,null,null,null,null,37.700000000000003,263.66000000000003]
["CUMENE [S.G. 0.862]",465.5,0.86199999999999999,"LIQUID",null,null,null,null,null,null,null,46.4,276.44]
["DECANE [S.G. 0.728]",320,0.72799999999999998,"LIQUID",null,null,null,null,null,null,null,52.2,283.82]
["DODECANE [S.G. 0.757]",280,0.75700000000000001,"LIQUID",null,null,null,null,null,null,null,58,289.58]
["ETHANE [S.G. 0.572]",717,0.57199999999999995,"LIQUID",null,null,null,null,null,null,null,63.8,296.77999999999997]
["ETHANOL [S.G. 0.79]",914,0.79,"LIQUID",null,null,null,null,null,null,null,69.599999999999994,302.54000000000002]
["ETHER [S.G. 0.07272]",544,7.2720000000000007E-2,"LIQUID",null,null,null,null,null,null,null,79.75,311.89999999999998]
["ETHER [S.G. 0.716]",537,0.71599999999999997,"LIQUID",null,null,null,null,null,null,null,87,317.83999999999997]
["ETHYLAMINE [S.G. 0.683]",832,0.68300000000000005,"LIQUID",null,null,null,null,null,null,null,94.25,323.60000000000002]
["ETHYLENE GLYCOL [S.G. 1.100]",729,1.1000000000000001,"LIQUID",null,null,null,null,null,null,null,101.5,329]
["FLUORINE (FREON) REFRIGERANT R-11 [S.G. 1.480]",635,1.48,"LIQUID",null,null,null,null,null,null,null,108.75,334.04]
["FLUORINE [S.G. 1.108]",757,1.1080000000000001,"LIQUID",null,null,null,null,null,null,null,116,338.72]
["FLUORINE REFRIGERANT R-12 [S.G. 1.315]",582,1.3149999999999999,"LIQUID",null,null,null,null,null,null,null,123.25,343.22]
["FLUORINE REFRIGERANT R-22 [S.G. 1.197]",731,1.1970000000000001,"LIQUID",null,null,null,null,null,null,null,130.5,347.72]
["FORMALDEHYDE [S.G. 0.815]",987,0.81499999999999995,"LIQUID",null,null,null,null,null,null,null,137.75,351.86]
["FURFORAL [S.G. 1.159]",813,1.159,"LIQUID",null,null,null,null,null,null,null,145,355.82]
["GLYCERIN [S.G. 1.263]",1103,1.2629999999999999,"LIQUID",null,null,null,null,null,null,null,152.25,359.6]
["GLYCEROL [S.G. 1.129]",640,1.129,"LIQUID",null,null,null,null,null,null,null,166.75,366.8]
["GLYCOL (ETHYLENE) [S.G. 1.100]",945,1.1000000000000001,"LIQUID",null,null,null,null,null,null,null,181.25,373.64]
["GLYCOL (PROPYLENE) [S.G. 1.306]",885,1.036,"LIQUID",null,null,null,null,null,null,null,188.5,376.88]
["HEPTANE [S.G. 0.681]",394,0.68100000000000005,"LIQUID",null,null,null,null,null,null,null,217.5,388.94]
["HEXANE [S.G. 0.657]",439,0.65700000000000003,"LIQUID",null,null,null,null,null,null,null,232,394.52]
["HEXANOL [S.G. 0.813]",496,0.81299999999999994,"LIQUID",null,null,null,null,null,null,null,261,404.78]
["HEXENE [S.G. 0.673]",460,0.67300000000000004,"LIQUID",null,null,null,null,null,null,null,290,414.32]
["HYDRAZINE [S.G. 0.797]",2130,0.79700000000000004,"LIQUID",null,null,null,null,null,null,null,304.5,418.82]
["KEROSENE [S.G. 0.820]",392,0.82,"LIQUID",null,null,null,null,null,null,null,333.5,427.28]
["KRYPTON [S.G. 2.818]",798,2.8180000000000001,"LIQUID",null,null,null,null,null,null,null,348,431.24]
["LIQUID NITROGEN [S.G. 0.807]",493,0.80700000000000005,"LIQUID"]
["LIQUIFIED NATURAL GAS (LNG) [S.G. 0.43]",673,0.43,"LIQUID"]
["LP GAS (PROPANE) [S.G. 1.500]",613,1.5,"LIQUID",null,null,null,null,null,null,null,377,438.8]
["MERCURY [S.G. 13.633]",25237,13.632999999999999,"LIQUID",null,null,null,null,null,null,null,391.5,442.58]
["METHANE [S.G. 0.466]",673,0.46600000000000003,"LIQUID",null,null,null,null,null,null,null,420.5,449.6]
["METHANOL  [S.G. 0.79]",1173,0.79,"LIQUID",null,null,null,null,null,null,null,435,452.84]
["MOLASSES B [S.G. 1.445]",100000,1.4450000000000001,"LIQUID",null,null,null,null,null,null,null,464,459.32]
["NAPTHALENE [S.G. 0.963]",558,0.96299999999999997,"LIQUID",null,null,null,null,null,null,null,493,465.62]
["NEON [S.G. 0.697]",400,0.69699999999999995,"LIQUID",null,null,null,null,null,null,null,522,471.56]
["NONANOL [S.G. 0.823]",367,0.82299999999999995,"LIQUID",null,null,null,null,null,null,null,551,477.14]
["OCTANE [S.G. 0.701]",332,0.70099999999999996,"LIQUID",null,null,null,null,null,null,null,580,482.54]
["OLIVE OIL [S.G. 0.911]",107,0.91100000000000003,"LIQUID"]
["OXYGEN [S.G. 1.140]",730,1.1399999999999999,"LIQUID"]
["PALM OIL [S.G. 0.924]",87.2,0.92400000000000004,"LIQUID"]
["PALMITIC ACID [S.G. 0.853]",213,0.85299999999999998,"LIQUID"]
["PENTANE [S.G. 0.755]",485,0.755,"LIQUID"]
["PHENOL [S.G. 1.075]",889,1.075,"LIQUID"]
["PHOSGENE [S.G. 1.381]",823,1.381,"LIQUID"]
["PINENE [S.G. 0.858]",415,0.85799999999999998,"LIQUID"]
["PROPANE [S.G. 0.540]",617,0.54,"LIQUID"]
["PROPYLENE [S.G. 0.516]",661,0.51600000000000001,"LIQUID"]
["PROPYLENE GLYCOL [S.G. 1.036]",885,1.036,"LIQUID"]
["PYRIDINE [S.G. 0.968]",882,0.96799999999999997,"LIQUID"]
["REFRIGERANT 12 [S.G. 1.315]",582,1.3149999999999999,"LIQUID"]
["REFRIGERANT 22 [S.G. 1.197]",713,1.1970000000000001,"LIQUID"]
["SAE 10 OIL   [S.G. 0.908]",100000,0.90749999999999997,"LIQUID"]
["SAE 30 OIL   [S.G. 0.908]",100000,0.90749999999999997,"LIQUID"]
["SAE 50 OIL   [S.G. 0.908]",100000,0.90749999999999997,"LIQUID"]
["SAE 70 OIL   [S.G. 0.908]",100000,0.90749999999999997,"LIQUID"]
["SEA WATER [S.G. 1.028]",3200,1.028,"LIQUID"]
["SILANE [S.G. 0.719]",702,0.71899999999999997,"LIQUID"]
["STEARIC ACID [S.G. 0.941]",192,0.94099999999999995,"LIQUID"]
["STYRENE [S.G. 0.906]",580,0.90600000000000003,"LIQUID"]
["SULFURIC ACID  [S.G. 1.84]",667,1.84,"LIQUID"]
["TERPINENE [S.G. 0.850]",406,0.85,"LIQUID"]
["TOLUENE [S.G. 0.865]",611,0.86499999999999999,"LIQUID"]
["TURPENTINE [S.G. 0.871]",304,0.871,"LIQUID"]
["VEGETABLE OIL  [S.G. 0.918]",107,0.91800000000000004,"LIQUID"]
["WATER [S.G. 1.000]",3206,1,"LIQUID"]
["WATER, PURE [S.G. 1.000]",3156,1,"LIQUID"]
["WATER, SEA   [S.G. 1.025]",4133,1.0249999999999999,"LIQUID"]
[]
[]
["GAS","S.G.","DENSITY"]
["ACETYLENE [S.G. 0.903]",{"$f":"C95/0.0764","v":0.90314136125654465},6.9000000000000006E-2]
["AIR [S.G. 1.0000]",1,7.6399999999999996E-2]
["AMMONIA [S.G. 0.589]",0.58900523560209428,4.4999999999999998E-2]
["ARGON [S.G. 1.374]",1.37434554973822,0.105]
["BUTANE [S.G. 2.016]",2.0157068062827226,0.154]
["CARBON DIOXIDE [S.G. 1.531]",1.5314136125654452,0.11700000000000001]
["CARBON MONOXIDE [S.G. 0.969]",0.96858638743455494,7.3999999999999996E-2]
["ETHANE [S.G. 2.487]",2.4869109947643979,0.19]
["ETHYLENE [S.G. 1.047]",1.0471204188481675,0.08]
["HELIUM [S.G. 0.144]",0.14397905759162305,1.0999999999999999E-2]
["HYDROGEN [S.G. 0.065]",6.5445026178010471E-2,5.0000000000000001E-3]
["METHANE [S.G. 0.550]",0.54973821989528804,4.2000000000000003E-2]
["NITROGEN [S.G. 0.969]",0.96858638743455494,7.3999999999999996E-2]
["OXYGEN [S.G. 1.099]",1.0994764397905761,8.4000000000000005E-2]
["PROPANE [S.G. 1.531]",1.5314136125654452,0.11700000000000001]
["REFRIGERANT 12 [S.G. 4.188]",4.1884816753926701,0.32]
["REFRIGERANT 22 [S.G. 2.984]",2.9842931937172779,0.22800000000000001]
[]
["This table to be deleted once dependency has been eliminated"]